BEGIN:VCALENDAR
VERSION:2.0
PRODID:-//Rocío La Estrella - ECPv5.14.1//NONSGML v1.0//EN
CALSCALE:GREGORIAN
METHOD:PUBLISH
X-WR-CALNAME:Rocío La Estrella
X-ORIGINAL-URL:https://rociolaestrella.org
X-WR-CALDESC:Eventos para Rocío La Estrella
REFRESH-INTERVAL;VALUE=DURATION:PT1H
X-Robots-Tag:noindex
X-PUBLISHED-TTL:PT1H
BEGIN:VTIMEZONE
TZID:UTC
BEGIN:STANDARD
TZOFFSETFROM:+0000
TZOFFSETTO:+0000
TZNAME:UTC
DTSTART:20210101T000000
END:STANDARD
END:VTIMEZONE
BEGIN:VEVENT
DTSTART;VALUE=DATE:20211023
DTEND;VALUE=DATE:20211024
DTSTAMP:20260424T211421
CREATED:20211025T142032Z
LAST-MODIFIED:20211025T142032Z
UID:5726-1634947200-1635033599@rociolaestrella.org
SUMMARY:VI ENCUENTRO DE HERMANDADES DEL ROCÍO DE LA ZONA CENTRO
DESCRIPTION:La Hermandad de Nuestra Señora del Rocío la Estrella de Madrid asistirá al VI ENCUENTRO DE HERMANDADES DEL ROCÍO DE LA ZONA CENTRO.\n\n\n\nLa Hermandad de Nuestra Señora del Rocío la Estrella de Madrid asistirá al VI ENCUENTRO DE HERMANDADES DEL ROCÍO DE LA ZONA CENTRO.
URL:https://rociolaestrella.org/event/vi-encuentro-de-hermandades-del-rocio-de-la-zona-centro/
LOCATION:Huelva
END:VEVENT
END:VCALENDAR