BEGIN:VCALENDAR
VERSION:2.0
PRODID:-//Rocío La Estrella - ECPv5.14.1//NONSGML v1.0//EN
CALSCALE:GREGORIAN
METHOD:PUBLISH
X-WR-CALNAME:Rocío La Estrella
X-ORIGINAL-URL:https://rociolaestrella.org
X-WR-CALDESC:Eventos para Rocío La Estrella
REFRESH-INTERVAL;VALUE=DURATION:PT1H
X-Robots-Tag:noindex
X-PUBLISHED-TTL:PT1H
BEGIN:VTIMEZONE
TZID:UTC
BEGIN:STANDARD
TZOFFSETFROM:+0000
TZOFFSETTO:+0000
TZNAME:UTC
DTSTART:20210101T000000
END:STANDARD
END:VTIMEZONE
BEGIN:VEVENT
DTSTART;VALUE=DATE:20211024
DTEND;VALUE=DATE:20211025
DTSTAMP:20260424T211421
CREATED:20211025T142244Z
LAST-MODIFIED:20211025T142244Z
UID:5728-1635033600-1635119999@rociolaestrella.org
SUMMARY:SANTA MISA DE TOMA DE POSESIÓN DEL RVDO. P. D. FELIPE ROSARIO BRUNO
DESCRIPTION:El domingo\, día 24 de octubre\, a las 12:30 horas\, oficiará la Santa Misa de toma de posesión como párroco de la Parroquia de Nuestra Señora de la Misericordia\, el Rvdo. P. D. Felipe Rosario Bruno\, a donde la Archidiócesis de Madrid le ha enviado a ejercer su labor sacerdotal.\n\n\n\n \nLa Hermandad está especialmente invitada a la Misa de presentación del nuevo Párroco de la parroquia de Nuestra Señora de la Misericordia y Consiliario de nuestra Hermandad\, el P.D. Felipe Rosario Bruno\, el próximo domingo 24 de octubre a las 12:30. Tras la solemne celebración de la Eucaristía\, se ofrecerá un aperitivo para poder saludarle. \nOficiará la Santa  Misa de toma de posesión  como párroco de la Parroquia de Nuestra Señora de la Misericordia\,  el Rvdo. P. D. Felipe Rosario Bruno\, a donde la Archidiócesis de Madrid le ha enviado a ejercer su labor sacerdotal. Hasta ahora ejercía  su labor eclesiástica como vicario parroquial en la Parroquia de San Miguel Arcángel de las Rozas de Madrid  donde se incorporó a la vida de esa comunidad parroquial. Estamos seguros que en esta nueva etapa contaremos con todo su apoyo como director espiritual de nuestra Hermandad aconsejándonos en cada momento para el desarrollo y devoción a nuestra titular  la Virgen del Rocío. Le damos nuestra más afectiva bienvenida.  \nContamos con vuestra presencia.
URL:https://rociolaestrella.org/event/santa-misa-de-toma-de-posesion-del-rvdo-p-d-felipe-rosario-bruno/
LOCATION:Huelva
END:VEVENT
END:VCALENDAR