BEGIN:VCALENDAR
VERSION:2.0
PRODID:-//Rocío La Estrella - ECPv5.14.1//NONSGML v1.0//EN
CALSCALE:GREGORIAN
METHOD:PUBLISH
X-WR-CALNAME:Rocío La Estrella
X-ORIGINAL-URL:https://rociolaestrella.org
X-WR-CALDESC:Eventos para Rocío La Estrella
REFRESH-INTERVAL;VALUE=DURATION:PT1H
X-Robots-Tag:noindex
X-PUBLISHED-TTL:PT1H
BEGIN:VTIMEZONE
TZID:UTC
BEGIN:STANDARD
TZOFFSETFROM:+0000
TZOFFSETTO:+0000
TZNAME:UTC
DTSTART:20210101T000000
END:STANDARD
END:VTIMEZONE
BEGIN:VEVENT
DTSTART;VALUE=DATE:20211030
DTEND;VALUE=DATE:20211031
DTSTAMP:20260424T211400
CREATED:20211025T111109Z
LAST-MODIFIED:20211025T112317Z
UID:5717-1635552000-1635638399@rociolaestrella.org
SUMMARY:II SABATINA DE LA HDAD. DE NTRA. SRA. DEL ROCÍO LA ESTRELLA DE MADRID
DESCRIPTION:El sábado 30 de octubre se realizará la II Sabatina de la Solemne Novena que la Hermandad de Ntra. Sra. del Rocío la Estrella de Madrid consagra en honor de su venerada Titular\, Virgen del Rocío. Tendrá lugar en nuestra Parroquia de Ntra. Sra. de la Misericordia de Madrid\, C/ Arroyo del Olivar\, 100. La oficina de la Hermandad estará abierta a las 18:00h para cualquier gestión que se necesite por parte de los hermanos. Comenzaremos a las 18:30h con el ejercicio de la Novena y la posterior Asamblea de hermanos\, en los salones parroquiales. A las 19:00h Santo Rosario y a las 19:30h\, celebración de la Eucaristía. Oficiará nuestro Consiliario\, Rvdo. P. D. Felipe Rosario Bruno. Cantará el coro de la Hermandad de Ntra. Sra. del Rocío la Estrella\, “Camino y Rocío. Será retransmitida por las redes sociales de la Hermandad. EL FACEBOOK : “Hermandad Rocío la Estrella”\n\n\n\n\n\n\n\nEl sábado 30 de octubre se realizará la II Sabatina de la Solemne Novena que la Hermandad de Ntra. Sra. del Rocío la Estrella de Madrid consagra en honor de su venerada Titular\, Virgen del Rocío. Tendrá lugar en nuestra Parroquia de Ntra. Sra. de la Misericordia de Madrid\, C/ Arroyo del Olivar\, 100. \nSerá retransmitida por las redes sociales de la Hermandad. EL FACEBOOK : “Hermandad Rocío la Estrella”\nLa oficina de la Hermandad estará abierta a las 18:00h para cualquier gestión que se necesite por parte de los hermanos.\nComenzaremos a las 18:30h con el ejercicio de la Novena y la posterior Asamblea de hermanos\, en los salones parroquiales. \nA las 19:00h Santo Rosario  y a las 19:30h\, celebración de la Eucaristía. \nOficiará nuestro Consiliario\, Rvdo. P. D. Felipe Rosario Bruno. \nCantará el coro de la Hermandad de Ntra. Sra. del Rocío la Estrella\, “Camino y Rocío.\n\n\nA las 18:30 horas: Novena y Asamblea de hermanos\, en el salón de actos de la parroquia.\nA las 19:00 horas: Santo Rosario.\nA las 19:30 horas: Celebración de la Eucaristía.  \nOficiará nuestro Consiliario.\nCantará el coro de la Hermandad de Ntra. Sra. del Rocío la Estrella de Madrid\, “Camino y Rocío”.
URL:https://rociolaestrella.org/event/i-sabatina-de-la-hermandad/
LOCATION:Huelva
END:VEVENT
END:VCALENDAR