BEGIN:VCALENDAR
VERSION:2.0
PRODID:-//Rocío La Estrella - ECPv5.14.1//NONSGML v1.0//EN
CALSCALE:GREGORIAN
METHOD:PUBLISH
X-WR-CALNAME:Rocío La Estrella
X-ORIGINAL-URL:https://rociolaestrella.org
X-WR-CALDESC:Eventos para Rocío La Estrella
REFRESH-INTERVAL;VALUE=DURATION:PT1H
X-Robots-Tag:noindex
X-PUBLISHED-TTL:PT1H
BEGIN:VTIMEZONE
TZID:UTC
BEGIN:STANDARD
TZOFFSETFROM:+0000
TZOFFSETTO:+0000
TZNAME:UTC
DTSTART:20210101T000000
END:STANDARD
END:VTIMEZONE
BEGIN:VEVENT
DTSTART;TZID=UTC:20211126T180000
DTEND;TZID=UTC:20211126T210000
DTSTAMP:20260424T194247
CREATED:20211118T081524Z
LAST-MODIFIED:20211121T082014Z
UID:6165-1637949600-1637960400@rociolaestrella.org
SUMMARY:PRIMER DÍA DE TRIDUO XXV ANIVERSARIO HERMANDAD DE NTRA. SRA. DEL ROCÍO LA ESTRELLA
DESCRIPTION:Este año se cumplen los veinticinco años de la fundación de la Hermandad y para su conmemoración\, la Junta de Gobierno ha organizado una serie de actos\, de los que os adjuntamos su programación y a los que os invitamos a participar\, dando así mayor esplendor a los mismos y porque nuestra Hermandad se merece todo nuestro apoyo.\n26 DE NOVIEMBRE\n\n\n18:30 h: Bendición de la imagen de Ntra. Sra. del Rocío\, junto a nuestro Simpecado\, en nuestra Sede Canónica la Parroquia Ntra. Sra. de la Misericordia.\n\n\n19:30 h: Santa Misa memorial en honor y recuerdo de nuestros difuntos de la Hermandad\, oficiada por nuestro Vicario Parroquial\, Rvdo. P. D. Manuel María Sánchez García-Loygorri
URL:https://rociolaestrella.org/event/primer-dia-de-triduo-xxv-aniversario-hermandad-de-ntra-sra-del-rocio-la-estrella/
LOCATION:Parroquia de Nuestra Señora de la Misericordia\, C/ Arroyo del Olivar\, 100\, Madrid\, Madrid\, 28028\, España
ORGANIZER;CN="D.%20Enrique%20J.%20%C3%9Abeda%20Moreno":MAILTO:hermandad@rociolaestrella.org
END:VEVENT
END:VCALENDAR