BEGIN:VCALENDAR
VERSION:2.0
PRODID:-//Rocío La Estrella - ECPv5.14.1//NONSGML v1.0//EN
CALSCALE:GREGORIAN
METHOD:PUBLISH
X-WR-CALNAME:Rocío La Estrella
X-ORIGINAL-URL:https://rociolaestrella.org
X-WR-CALDESC:Eventos para Rocío La Estrella
REFRESH-INTERVAL;VALUE=DURATION:PT1H
X-Robots-Tag:noindex
X-PUBLISHED-TTL:PT1H
BEGIN:VTIMEZONE
TZID:UTC
BEGIN:STANDARD
TZOFFSETFROM:+0000
TZOFFSETTO:+0000
TZNAME:UTC
DTSTART:20210101T000000
END:STANDARD
END:VTIMEZONE
BEGIN:VEVENT
DTSTART;TZID=UTC:20211127T170000
DTEND;TZID=UTC:20211127T223000
DTSTAMP:20260424T194237
CREATED:20211118T082257Z
LAST-MODIFIED:20211122T171342Z
UID:6170-1638032400-1638052200@rociolaestrella.org
SUMMARY:SEGUNDO DÍA DE TRIDUO XXV ANIVERSARIO HERMANDAD DE NTRA. SRA. DEL ROCÍO LA ESTRELLA
DESCRIPTION:                              \nEste año se cumplen los veinticinco años de la fundación de la Hermandad y para su conmemoración\, la Junta de Gobierno ha organizado una serie de actos\, de los que os adjuntamos su programación y a los que os invitamos a participar\, dando así mayor esplendor a los mismos y porque nuestra Hermandad se merece todo nuestro apoyo.\n27 DE NOVIEMBRE\n\n\n17:00 h: Invitación a todos los hermanos\, a café con dulces en nuestros salones parroquiales\n\n\n17:45 h: Proyección de video fotográfico. “Reviviendo nuestros XXV años de historia”\n\n\n18:30 h: Rezo de la Novena\n\n\n19:00 h: Santo Rosario\n\n\n19:30 h: Solemne Misa\, oficiada por nuestro Consiliario\, Rvdo. P. D. Felipe Rosario Bruno\n\n\n21:00 h: Vino español ofrecido por nuestra Hermandad\, en nuestros salones parroquiales
URL:https://rociolaestrella.org/event/segundo-dia-de-triduo-xxv-aniversario-hermandad-de-ntra-sra-del-rocio-la-estrella/
LOCATION:Parroquia de Nuestra Señora de la Misericordia\, C/ Arroyo del Olivar\, 100\, Madrid\, Madrid\, 28028\, España
ORGANIZER;CN="D.%20Enrique%20J.%20%C3%9Abeda%20Moreno":MAILTO:hermandad@rociolaestrella.org
END:VEVENT
END:VCALENDAR