BEGIN:VCALENDAR
VERSION:2.0
PRODID:-//Rocío La Estrella - ECPv5.14.1//NONSGML v1.0//EN
CALSCALE:GREGORIAN
METHOD:PUBLISH
X-WR-CALNAME:Rocío La Estrella
X-ORIGINAL-URL:https://rociolaestrella.org
X-WR-CALDESC:Eventos para Rocío La Estrella
REFRESH-INTERVAL;VALUE=DURATION:PT1H
X-Robots-Tag:noindex
X-PUBLISHED-TTL:PT1H
BEGIN:VTIMEZONE
TZID:UTC
BEGIN:STANDARD
TZOFFSETFROM:+0000
TZOFFSETTO:+0000
TZNAME:UTC
DTSTART:20210101T000000
END:STANDARD
END:VTIMEZONE
BEGIN:VEVENT
DTSTART;TZID=UTC:20211201T080000
DTEND;TZID=UTC:20211218T210000
DTSTAMP:20260424T181718
CREATED:20211202T084545Z
LAST-MODIFIED:20211202T084618Z
UID:6237-1638345600-1639861200@rociolaestrella.org
SUMMARY:OPERACIÓN KILO HERMANDAD DE NUESTRA SEÑORA DEL ROCÍO LA ESTRELLA
DESCRIPTION:  \n \nComo cada año por estas fechas comienza en nuestra Hermandad la OPERACIÓN KILO con el lema “Juntos para aportar un kilo de solidaridad”. A partir del 1 de al 18 de diciembre\, se recogerá lo que podáis aportar en la Parroquia de Nuestra Señora de la Misericordia los viernes en la oficina de 20:00 a 22:00 horas o en la Sabatina de diciembre.\nComo todos los años lo que podamos recoger se destinará a los grupos que a continuación os detallamos:\n\n\nCáritas.\n\n\nFamilias del Centro en situación de dificultad.\n\n\nCualquier duda ponerse en contacto con la vocal delegada  de Caridad y Acción Social:\, Vicky Arroyo\, teléfono: 606 700 566\nMuchas gracias de antemano por la solidaridad que siempre tenéis en esta campaña.\n 
URL:https://rociolaestrella.org/event/operacion-kilo-hermandad-de-nuestra-senora-del-rocio-la-estrella/
LOCATION:Parroquia de Nuestra Señora de la Misericordia\, C/ Arroyo del Olivar\, 100\, Madrid\, Madrid\, 28028\, España
END:VEVENT
END:VCALENDAR