BEGIN:VCALENDAR
VERSION:2.0
PRODID:-//Rocío La Estrella - ECPv5.14.1//NONSGML v1.0//EN
CALSCALE:GREGORIAN
METHOD:PUBLISH
X-WR-CALNAME:Rocío La Estrella
X-ORIGINAL-URL:https://rociolaestrella.org
X-WR-CALDESC:Eventos para Rocío La Estrella
REFRESH-INTERVAL;VALUE=DURATION:PT1H
X-Robots-Tag:noindex
X-PUBLISHED-TTL:PT1H
BEGIN:VTIMEZONE
TZID:UTC
BEGIN:STANDARD
TZOFFSETFROM:+0000
TZOFFSETTO:+0000
TZNAME:UTC
DTSTART:20220101T000000
END:STANDARD
END:VTIMEZONE
BEGIN:VEVENT
DTSTART;TZID=UTC:20221109T000000
DTEND;TZID=UTC:20230530T020000
DTSTAMP:20260423T212626
CREATED:20221109T201225Z
LAST-MODIFIED:20221119T112320Z
UID:9148-1667952000-1685412000@rociolaestrella.org
SUMMARY:Romería del Rocío 2023
DESCRIPTION:  \nComunicamos a todos los hermanos\, que ya está abierta la inscripción para la Romería del Rocío 2023\, la cuota de inscripción es de 150\,00 €. La Hermandad\, pone a disposición de los hermanos una forma sencilla para ir pagando el coste de la misma\, se pueden hacer cómodas aportaciones mensuales de 50\,00 €\, que podrán ir depositando en la cuenta de la Hermandad  ES61 2038 1796 75 6000340809\, en la oficina\, o bien\, a nuestro Tesorero D. Manuel Velázquez o al Vicepresidente y Vocal Delegado de Romerías y Peregrinaciones D. José Luis González. \nTesorero                                        D. Manuel Velázquez            659 12 11 52\nPeregrinaciones y Romerías       D. José Luis González            607 84 14 50\nAlcalde Carretas                          D. Francisco Girón                 636 48 23 02 \nTambién se podrá apuntar vía telefónica e ingresar por banco.  \n EL ROCÍO\, SU ROMERÍA NO ES PARA “QUE TE LO CUENTEN ES PARA VIVIRLO”\, VEN CON NOSOTROS VIVIRÁS MOMENTOS INOLVIDABLES DESEOS QUE JAMÁS SE OLVIDA. \n¡¡¡APÚNTATE QUEDAN POCAS PLAZAS LIBRES!!!
URL:https://rociolaestrella.org/event/romeria-del-rocio-2023/
LOCATION:Santuario de la Virgen del Rocío\, El Rocío\, Almonte\, Huelva\, España
END:VEVENT
BEGIN:VEVENT
DTSTART;TZID=UTC:20230130T080000
DTEND;TZID=UTC:20230219T170000
DTSTAMP:20260423T212626
CREATED:20230130T182059Z
LAST-MODIFIED:20230130T182819Z
UID:10297-1675065600-1676826000@rociolaestrella.org
SUMMARY:PEREGRINACIÓN EXTRAORDINARIA DE LA HERMANDAD MADRINA DE NTRA. SRA. DEL ROCÍO DE TRIGUEROS
DESCRIPTION:El domingo 19 de febrero de 2023 a las 12:00 horas se celebrará en el Santuario de la Virgen del Rocío la peregrinación extraordinaria de la Hermandad Madrina de Ntra. Sra. del Rocío de Trigueros.
URL:https://rociolaestrella.org/event/peregrinacion-extraordinaria-de-la-hermandad-madrina-de-ntra-sra-del-rocio-de-trigueros/
LOCATION:Santuario de la Virgen del Rocío\, El Rocío\, Almonte\, Huelva\, España
END:VEVENT
BEGIN:VEVENT
DTSTART;TZID=UTC:20230130T080000
DTEND;TZID=UTC:20230222T233000
DTSTAMP:20260423T212626
CREATED:20230130T182727Z
LAST-MODIFIED:20230130T182836Z
UID:10300-1675065600-1677108600@rociolaestrella.org
SUMMARY:MIÉRCOLES DE CENIZA
DESCRIPTION:  \nEl miércoles 22 de febrero de 2023 se celebrará el miércoles de ceniza. \n¿Qué es el Miércoles de Ceniza?\nEl Miércoles de Ceniza es el primer día de Cuaresma en el calendario litúrgico católico. \nLa imposición de la ceniza es el rito característico de esta celebración litúrgica que se obtiene de la incineración de los ramos bendecidos el Domingo de Ramos del año anterior. \nCuaresma\, del latín cuadragésima\, significa ‘cuarenta días’. El número 40 es un número que se repite en toda la tradición bíblica. Cuando Dios envió el diluvio\, «cuarenta días y cuarenta noches estuvo lloviendo sobre la tierra» (Génesis 7\,12); 40 años estuvo el pueblo de Israel en el desierto; 40 días de Jesús en el desierto. Todo indica que el número 40 (cuaresma) simboliza la prueba\, pero no como un castigo o algo dramático\, sino como una renovación interior\, espiritual: se trata de 40 días para examinar\, para preparar el camino\, para no dejar aquello que no debe convivir en nosotros. «¿Por qué buscáis entre los muertos al que vive?» (Lucas 24\,5). Hay que renovarse para cambiar y resucitar junto a Jesús en Pascua. Son 40 días para volver a vivir. \n¿Qué herramientas tenemos para este cambio? \nLa oración. La oración es nuestra necesidad espiritual ¡El católico es muy pedigüeño! «Además de ser pedigüeña y agradecida\, que tu oración sea alabadora. Verdaderamente\, hay una necesidad muy grande de renovar la fe\, de rezar el Credo con el corazón» (Papa Francisco). \nEl ayuno. No se trata solamente de lo alimenticio\, sino que también es la posibilidad de ayunar mentiras\, enojos\, resentimientos y todo lo malo que está funcionando en nosotros. \nLa limosna: «Amaos los unos a los otros como yo os he amado» (Jn 13\,34). La limosna\, aparte de lo material\, significa ocuparse de quien está al lado nuestro. Quien está a nuestro lado no es una cosa\, es un ser humano que tiene la misma dignidad que nosotros. La limosna no simboliza a una persona pobre\, sino a todo lo pobre que podemos ser las personas si no nos tratamos con igualdad. \nTeología y Pastoral UCALP \nFUENTE: https://www.ucalp.edu.ar/que-es-miercoles-de-cenizas/#:~:text=El%20Mi%C3%A9rcoles%20de%20Ceniza%20es\,de%20Ramos%20del%20a%C3%B1o%20anterior.
URL:https://rociolaestrella.org/event/miercoles-de-ceniza-2/
LOCATION:LA IGLESIA UNIVERSAL
END:VEVENT
END:VCALENDAR