BEGIN:VCALENDAR
VERSION:2.0
PRODID:-//Rocío La Estrella - ECPv5.14.1//NONSGML v1.0//EN
CALSCALE:GREGORIAN
METHOD:PUBLISH
X-WR-CALNAME:Rocío La Estrella
X-ORIGINAL-URL:https://rociolaestrella.org
X-WR-CALDESC:Eventos para Rocío La Estrella
REFRESH-INTERVAL;VALUE=DURATION:PT1H
X-Robots-Tag:noindex
X-PUBLISHED-TTL:PT1H
BEGIN:VTIMEZONE
TZID:UTC
BEGIN:STANDARD
TZOFFSETFROM:+0000
TZOFFSETTO:+0000
TZNAME:UTC
DTSTART:20230101T000000
END:STANDARD
END:VTIMEZONE
BEGIN:VEVENT
DTSTART;TZID=UTC:20230912T080000
DTEND;TZID=UTC:20230922T193000
DTSTAMP:20260423T104845
CREATED:20230927T163639Z
LAST-MODIFIED:20230927T163743Z
UID:16051-1694505600-1695411000@rociolaestrella.org
SUMMARY:SANTA MISA DE FUNERAL DE MARÍA DEL CARMEN MAESTRO MUÑOZ
DESCRIPTION:  \nSanta Misa de funeral de María del Carmen maestro Muñoz\,\, se celebrará el 22 de septiembre en la parroquia de Nuestra Señora de la Misericordia a la 19:30 horas. \nOficiará el Rvdo. P. D. Felipe Rosario Bruno
URL:https://rociolaestrella.org/event/santa-misa-de-funeral-de-maria-del-carmen-maestro-munoz/
LOCATION:Parroquia de Nuestra Señora de la Misericordia\, C/ Arroyo del Olivar\, 100\, Madrid\, Madrid\, 28028\, España
END:VEVENT
END:VCALENDAR