BEGIN:VCALENDAR
VERSION:2.0
PRODID:-//Rocío La Estrella - ECPv5.14.1//NONSGML v1.0//EN
CALSCALE:GREGORIAN
METHOD:PUBLISH
X-WR-CALNAME:Rocío La Estrella
X-ORIGINAL-URL:https://rociolaestrella.org
X-WR-CALDESC:Eventos para Rocío La Estrella
REFRESH-INTERVAL;VALUE=DURATION:PT1H
X-Robots-Tag:noindex
X-PUBLISHED-TTL:PT1H
BEGIN:VTIMEZONE
TZID:UTC
BEGIN:STANDARD
TZOFFSETFROM:+0000
TZOFFSETTO:+0000
TZNAME:UTC
DTSTART:20230101T000000
END:STANDARD
END:VTIMEZONE
BEGIN:VEVENT
DTSTART;TZID=UTC:20230925T080000
DTEND;TZID=UTC:20231105T170000
DTSTAMP:20260423T085640
CREATED:20230925T154507Z
LAST-MODIFIED:20231004T081557Z
UID:15869-1695628800-1699203600@rociolaestrella.org
SUMMARY:PEREGRINACIÓN EXTRORDINARIA DE LA HERMANDAD DE NUESTRA SEÑORA DEL ROCÍO LA ESTRELLA DE MADRID
DESCRIPTION:  \n \n \nOtro año más tenemos el privilegio de peregrinar hasta los pies de la Blanca Paloma. \nOs informamos que este año serán los días 3.4 y 5 de noviembre. Este año la Junta de Gobierno ha querido facilitar los pagos en formas diferentes\, a través de Bizum (de momento inactivo estamos a la espera)\, por transferencia bancaria en la cuenta de la hermandad\, en secretaria en horario de 19:30 a 21:00 o bien media hora antes del comienzo de la asamblea (sábado Sabatina). Para la buena organización de la peregrinación se ha puesto fecha tope para confirmar la asistencia\, el 15 de octubre \nEn el caso de hacer el pago por transferencia se deberá poner: \nTitular de la cuenta: \nHermandad de Ntra. Sra. Del Rocío de la Estrella \nConcepto: \n“Peregrinación Nov 2023” y el nombre del que hace el pago.  \nBizum  a la espera de la activación\nConcepto:\n“Peregrinación 2023”   \nPara cualquier duda llamar al teléfono: 604 377 976\, al presidente\, secretaria o tesorera
URL:https://rociolaestrella.org/event/peregrinacion-extrordinaria-de-la-hermandad-de-nuestra-senora-del-rocio-la-estrella-de-madrid/
LOCATION:Santuario de la Virgen del Rocío\, El Rocío\, Almonte\, Huelva\, España
ORGANIZER;CN="D.%20Jois%C3%A9%20Luis%20Campuzano%20Mart%C3%ADnez":MAILTO:hermandad@rociolaestrella.org
END:VEVENT
BEGIN:VEVENT
DTSTART;TZID=UTC:20231001T080000
DTEND;TZID=UTC:20231222T170000
DTSTAMP:20260423T085640
CREATED:20231001T074650Z
LAST-MODIFIED:20231001T074655Z
UID:16073-1696147200-1703264400@rociolaestrella.org
SUMMARY:LOTERÍA  DE NAVIDAD 2023
DESCRIPTION:Ya tenemos disponible la lotería de la Hermandad de Ntra. Sra. del Rocío la Estrella de Madrid\, se tienen papeletas disponibles\, todos los viernes de apertura de secretaría de 20:00 a 21:00 horas. Todo aquel que quiera décimos los podrá encargar previo pago del importe de la cantidad de décimos solicitados\, cada décimo como en años anteriores será de 23\,00 €\, lo podréis hacer a través de ingreso o transferencia a la cuenta de la Hermandad del Banco Santander\, poniendo nombre y cantidad de decimos solicitados o pagarlos directamente en secretaría\, una vez que  tengamos los décimos se llamara a los hermanos para que pasen a recogerlos en horario de secretaria o bien antes de las Sabatinas. Daros prisa porque sabéis que se agotan rápido
URL:https://rociolaestrella.org/event/loteria-de-navidad-2023/
LOCATION:Parroquia de Nuestra Señora de la Misericordia\, C/ Arroyo del Olivar\, 100\, Madrid\, Madrid\, 28028\, España
ORGANIZER;CN="D.%20Jois%C3%A9%20Luis%20Campuzano%20Mart%C3%ADnez":MAILTO:hermandad@rociolaestrella.org
END:VEVENT
BEGIN:VEVENT
DTSTART;TZID=UTC:20231005T080000
DTEND;TZID=UTC:20231015T170000
DTSTAMP:20260423T085640
CREATED:20231005T160921Z
LAST-MODIFIED:20231005T160958Z
UID:16089-1696492800-1697389200@rociolaestrella.org
SUMMARY:VIII ENCUENTRO DE COROS DE HERMANDADES ROCIERAS DE LA ZONA CENTRO DE  ESPAÑA 15 DE OCTUBRE DE 2023
DESCRIPTION:PASTORA QUE ALUMBRA EL CAMINO\nCon este lema abrimos el octavo encuentro de hermandades de la zona centro de \nEspaña. \nEste año corre a cargo de la hermandad de Ntra. Sra. Del Rocío de Hortaleza\, quién está preparando el acto con mucha ilusión. \nEl domingo 15 de octubre vuelve la II “Pará rociera”\, (encuentro de coros de las \ndistintas hermandades) en el parque de Santa Adela (Dirección CALLE  SANTA ADELA\,  14  28033  MADRID Barrio / Distrito PINAR DEL REY / HORTALEZA)\, donde todo aquel que acuda podrá \ntomar un piscolabis\, disfrutando de las melodiosas voces de los distintos coros. No os lo podéis perder.
URL:https://rociolaestrella.org/event/viii-encuentro-de-coros-de-hermandades-rocieras-de-la-zona-centro-de-espana-15-de-octubre-de-2023/
LOCATION:Parque de Santa Adela de Hortaleza Madrid\, Madrid\, España
END:VEVENT
BEGIN:VEVENT
DTSTART;TZID=UTC:20231005T080000
DTEND;TZID=UTC:20231021T230000
DTSTAMP:20260423T085640
CREATED:20231005T161308Z
LAST-MODIFIED:20231005T161346Z
UID:16091-1696492800-1697929200@rociolaestrella.org
SUMMARY:VIII ENCUENTRO DE HERMANDADES ROCIERAS DE LA ZONA CENTRO DE ESPAÑA 21 DE OCTUBRE DE 2023
DESCRIPTION:  \n \nPASTORA QUE ALUMBRA EL CAMINO\nCon este lema abrimos el octavo encuentro de Hermandades de la zona centro de España. \nEste año corre a cargo de la Hermandad de Ntra. Sra. del Rocío de Hortaleza\, quién está preparando el acto con mucha ilusión. \nEl sábado 21 de octubre a las 18:00 h\, tendremos la salida procesional desde el colegio Inmaculada hasta la Parroquia San Martín de Porres. C/. Abegondo\, 28\, 28033 Madrid \nCon sones de gaita y tamboril\, se amenizará el recorrido. \nEl tambor llama a la flauta \nVamos a bailar María \nQue tus pies alegres pisen \nLas flores que mis pies pisan \nMira\, la flauta está loca \nY está loco el tamboril \nAy tamboril\, toca\, ay toca…. \nA las 19:00h\, Solemne Misa Pontifical en la Parroquia de San Martín de Porres\, presidida por el Excmo. Rvdmo. Mons. D. Antonio María Rouco Varela\, el acto será amenizado por el coro de la Hdad de Ntra. Sra. Del Rocío de Hortaleza. \nSabemos que es un poquito más difícil hacer Rocío de Despeñaperros para arriba\, por eso es importante vivir un año más estos grandes momentos. Para la Hermandad de Ntra. Sra. del Rocío la Estrella de Madrid es una gran satisfacción encontrarse con todas las Hermandades de la zona centro y poder vivir con ellas un poquito de Rocío por las calles de la capital.
URL:https://rociolaestrella.org/event/viii-encuentro-de-hermandades-rocieras-de-la-zona-centro-de-espana-21-de-octubre-de-2023/
LOCATION:Parroquia San Martín de Porres.\, C. Abegondo\, 28\, 28033 Madrid\, Madrid\, España
END:VEVENT
BEGIN:VEVENT
DTSTART;TZID=UTC:20231006T080000
DTEND;TZID=UTC:20231028T230000
DTSTAMP:20260423T085640
CREATED:20231006T073029Z
LAST-MODIFIED:20231006T073113Z
UID:16094-1696579200-1698534000@rociolaestrella.org
SUMMARY:II SABATINA DE LA NOVENA DE LA HERMANDAD DE NTRA. SRA. DEL ROCÍO LA ESTRELLA DE MADRID
DESCRIPTION:El sábado 28 de octubre se celebra la II Sabatina de la Solemne Novena que la Hermandad de Ntra. Sra. del Rocío la Estrella de Madrid consagra en honor de su venerada Titular\, Virgen del Rocío. Tendrá lugar en nuestra Parroquia de Ntra. Sra. de la Misericordia de Madrid\, C/ Arroyo del Olivar\, 100\, \nOficiará la Santa Misa el Consiliario de la Hermandad\, Rvdo. P. D. Felipe Rosario Bruno\,  \nSerá cantará la celebración el coro de la Hermandad “Camino y Rocío” \nEl orden será el siguiente: \n\n18:30 h. Novena a la Virgen del Rocío y Asamblea de hermanos.\n19:00 h. Santo Rosario.\n19:30 h. Santa Misa.\n21:00 h. Convivencia de hermanos en los salones parroquiales ( los hermanos pueden traer viandas para compartir)\n\nQue la Virgen llene de Paz\, Amor y Caridad todas nuestras familias y que la Fe Rociera llene nuestros corazones. \nSaludos en Cristo y su Santísima Madre\, Santa María del Rocío\, os acompañe en vuestro caminar
URL:https://rociolaestrella.org/event/ii-sabatina-de-la-novena-de-la-hermandad-de-ntra-sra-del-rocio-la-estrella-de-madrid/
LOCATION:Parroquia de Nuestra Señora de la Misericordia\, C/ Arroyo del Olivar\, 100\, Madrid\, Madrid\, 28028\, España
CATEGORIES:Sabatina de la Hermandad
ORGANIZER;CN="D.%20Jois%C3%A9%20Luis%20Campuzano%20Mart%C3%ADnez":MAILTO:hermandad@rociolaestrella.org
END:VEVENT
END:VCALENDAR