BEGIN:VCALENDAR
VERSION:2.0
PRODID:-//Rocío La Estrella - ECPv5.14.1//NONSGML v1.0//EN
CALSCALE:GREGORIAN
METHOD:PUBLISH
X-WR-CALNAME:Rocío La Estrella
X-ORIGINAL-URL:https://rociolaestrella.org
X-WR-CALDESC:Eventos para Rocío La Estrella
REFRESH-INTERVAL;VALUE=DURATION:PT1H
X-Robots-Tag:noindex
X-PUBLISHED-TTL:PT1H
BEGIN:VTIMEZONE
TZID:UTC
BEGIN:STANDARD
TZOFFSETFROM:+0000
TZOFFSETTO:+0000
TZNAME:UTC
DTSTART:20230101T000000
END:STANDARD
END:VTIMEZONE
BEGIN:VEVENT
DTSTART;TZID=UTC:20230925T080000
DTEND;TZID=UTC:20231105T170000
DTSTAMP:20260423T090724
CREATED:20230925T154507Z
LAST-MODIFIED:20231004T081557Z
UID:15869-1695628800-1699203600@rociolaestrella.org
SUMMARY:PEREGRINACIÓN EXTRORDINARIA DE LA HERMANDAD DE NUESTRA SEÑORA DEL ROCÍO LA ESTRELLA DE MADRID
DESCRIPTION:  \n \n \nOtro año más tenemos el privilegio de peregrinar hasta los pies de la Blanca Paloma. \nOs informamos que este año serán los días 3.4 y 5 de noviembre. Este año la Junta de Gobierno ha querido facilitar los pagos en formas diferentes\, a través de Bizum (de momento inactivo estamos a la espera)\, por transferencia bancaria en la cuenta de la hermandad\, en secretaria en horario de 19:30 a 21:00 o bien media hora antes del comienzo de la asamblea (sábado Sabatina). Para la buena organización de la peregrinación se ha puesto fecha tope para confirmar la asistencia\, el 15 de octubre \nEn el caso de hacer el pago por transferencia se deberá poner: \nTitular de la cuenta: \nHermandad de Ntra. Sra. Del Rocío de la Estrella \nConcepto: \n“Peregrinación Nov 2023” y el nombre del que hace el pago.  \nBizum  a la espera de la activación\nConcepto:\n“Peregrinación 2023”   \nPara cualquier duda llamar al teléfono: 604 377 976\, al presidente\, secretaria o tesorera
URL:https://rociolaestrella.org/event/peregrinacion-extrordinaria-de-la-hermandad-de-nuestra-senora-del-rocio-la-estrella-de-madrid/
LOCATION:Santuario de la Virgen del Rocío\, El Rocío\, Almonte\, Huelva\, España
ORGANIZER;CN="D.%20Jois%C3%A9%20Luis%20Campuzano%20Mart%C3%ADnez":MAILTO:hermandad@rociolaestrella.org
END:VEVENT
BEGIN:VEVENT
DTSTART;TZID=UTC:20231001T080000
DTEND;TZID=UTC:20231222T170000
DTSTAMP:20260423T090724
CREATED:20231001T074650Z
LAST-MODIFIED:20231001T074655Z
UID:16073-1696147200-1703264400@rociolaestrella.org
SUMMARY:LOTERÍA  DE NAVIDAD 2023
DESCRIPTION:Ya tenemos disponible la lotería de la Hermandad de Ntra. Sra. del Rocío la Estrella de Madrid\, se tienen papeletas disponibles\, todos los viernes de apertura de secretaría de 20:00 a 21:00 horas. Todo aquel que quiera décimos los podrá encargar previo pago del importe de la cantidad de décimos solicitados\, cada décimo como en años anteriores será de 23\,00 €\, lo podréis hacer a través de ingreso o transferencia a la cuenta de la Hermandad del Banco Santander\, poniendo nombre y cantidad de decimos solicitados o pagarlos directamente en secretaría\, una vez que  tengamos los décimos se llamara a los hermanos para que pasen a recogerlos en horario de secretaria o bien antes de las Sabatinas. Daros prisa porque sabéis que se agotan rápido
URL:https://rociolaestrella.org/event/loteria-de-navidad-2023/
LOCATION:Parroquia de Nuestra Señora de la Misericordia\, C/ Arroyo del Olivar\, 100\, Madrid\, Madrid\, 28028\, España
ORGANIZER;CN="D.%20Jois%C3%A9%20Luis%20Campuzano%20Mart%C3%ADnez":MAILTO:hermandad@rociolaestrella.org
END:VEVENT
END:VCALENDAR