BEGIN:VCALENDAR
VERSION:2.0
PRODID:-//Rocío La Estrella - ECPv5.14.1//NONSGML v1.0//EN
CALSCALE:GREGORIAN
METHOD:PUBLISH
X-WR-CALNAME:Rocío La Estrella
X-ORIGINAL-URL:https://rociolaestrella.org
X-WR-CALDESC:Eventos para Rocío La Estrella
REFRESH-INTERVAL;VALUE=DURATION:PT1H
X-Robots-Tag:noindex
X-PUBLISHED-TTL:PT1H
BEGIN:VTIMEZONE
TZID:UTC
BEGIN:STANDARD
TZOFFSETFROM:+0000
TZOFFSETTO:+0000
TZNAME:UTC
DTSTART:20230101T000000
END:STANDARD
END:VTIMEZONE
BEGIN:VEVENT
DTSTART;TZID=UTC:20231102T080000
DTEND;TZID=UTC:20240101T230000
DTSTAMP:20260423T053722
CREATED:20231102T173955Z
LAST-MODIFIED:20240119T175859Z
UID:16340-1698912000-1704150000@rociolaestrella.org
SUMMARY:TALLER DE SEVILLANAS
DESCRIPTION:Clases de Sevillanas\nLAS CLASES SE EMPIEZAN EL SÁBADO 25 DE NOVIEMBRE 2023\, CON HORARIO DE 12:00 H. HATA LAS 13:30 H. \nSE REALIZARÁN LAS CLASES DOS SÁBADOS AL MES.  \nLUGAR: SALONES PARROQUIALES DE NTRA. SRA. DE LA MISERICORDIA. \nDONATIVO DE 16 € AL MES\, EL DONATIVO DE 8 € SE REALIZARÁ CADA DÍA QUE SE ASISTA A CLASE \nPROFESORA : DÑA. SANDRA GONZÁLEZ \nPARA MAS INFORMACIÓN PONERSE EN CONTACTO EN EL TELÉFONO 604 377 976 \nA que estas esperando. Ya no hay escusas para no bailar sevillanas.\nVenga anímate\, que lo pasaremos en grande y encima aprenderemos un montón.\nYa tenemos la inscripción abierta.\nTe esperamos
URL:https://rociolaestrella.org/event/taller-de-sevillanas/
LOCATION:Parroquia de Nuestra Señora de la Misericordia\, C/ Arroyo del Olivar\, 100\, Madrid\, Madrid\, 28028\, España
END:VEVENT
END:VCALENDAR