BEGIN:VCALENDAR
VERSION:2.0
PRODID:-//Rocío La Estrella - ECPv5.14.1//NONSGML v1.0//EN
CALSCALE:GREGORIAN
METHOD:PUBLISH
X-WR-CALNAME:Rocío La Estrella
X-ORIGINAL-URL:https://rociolaestrella.org
X-WR-CALDESC:Eventos para Rocío La Estrella
REFRESH-INTERVAL;VALUE=DURATION:PT1H
X-Robots-Tag:noindex
X-PUBLISHED-TTL:PT1H
BEGIN:VTIMEZONE
TZID:UTC
BEGIN:STANDARD
TZOFFSETFROM:+0000
TZOFFSETTO:+0000
TZNAME:UTC
DTSTART:20250101T000000
END:STANDARD
END:VTIMEZONE
BEGIN:VEVENT
DTSTART;TZID=UTC:20250110T080000
DTEND;TZID=UTC:20250111T170000
DTSTAMP:20260422T095835
CREATED:20250110T085558Z
LAST-MODIFIED:20250110T085636Z
UID:19627-1736496000-1736614800@rociolaestrella.org
SUMMARY:CAMINO DEL ROCÍO SIN BARRERAS 2025
DESCRIPTION:  \n \nSe retoma el Rocío sin Barreras 2025 en Madrid.  (Zona centro de España) \nUn camino diferente… un camino sin barreras. \nSe va a mostrar que es posible\, que la Asociación Camino del Rocío sin Barreras lo hace posible… todas las discapacidades entran en ese camino hacia la Virgen del Rocío. \nEl encuentro se realizará en la NAVE DE TERNERAS del Centro Cultural “CASA DEL RELOJ” \, Paseo de la Chopera\,10 \nOrganizan: \nAsociación Camino del Rocío Sin Barreras y Junta Municipal del distrito de Arganzuela \nColabora: \nPontificia\, Real e Ilustre Hermandad Matriz de Nuestra Señora del Rocío de Almonte.
URL:https://rociolaestrella.org/event/camino-del-rocio-sin-barreras-2025/
LOCATION:NAVE DE TERNERAS DEL CENTRO CULTURAL “CASA DEL RELOJ”\, PASEO DE LA CHOPERA\,10\, Madrid\, España
END:VEVENT
END:VCALENDAR