BEGIN:VCALENDAR
VERSION:2.0
PRODID:-//Rocío La Estrella - ECPv5.14.1//NONSGML v1.0//EN
CALSCALE:GREGORIAN
METHOD:PUBLISH
X-WR-CALNAME:Rocío La Estrella
X-ORIGINAL-URL:https://rociolaestrella.org
X-WR-CALDESC:Eventos para Rocío La Estrella
REFRESH-INTERVAL;VALUE=DURATION:PT1H
X-Robots-Tag:noindex
X-PUBLISHED-TTL:PT1H
BEGIN:VTIMEZONE
TZID:UTC
BEGIN:STANDARD
TZOFFSETFROM:+0000
TZOFFSETTO:+0000
TZNAME:UTC
DTSTART:20250101T000000
END:STANDARD
END:VTIMEZONE
BEGIN:VEVENT
DTSTART;TZID=UTC:20250131T080000
DTEND;TZID=UTC:20250207T210000
DTSTAMP:20260422T083237
CREATED:20250131T110714Z
LAST-MODIFIED:20250131T110746Z
UID:19671-1738310400-1738962000@rociolaestrella.org
SUMMARY:5.6.	Santa Misa de Funeral por el eterno descanso de “Concha”
DESCRIPTION:El próximo viernes 7 de febrero \, tendremos la Santa Misa el Funeral por el eterno descaso de nuestra querida “Concha”. \nEste acto se celebrará en la parroquia de Nuestra Señora de la Misericordia a las 19:30 h.  \nLa Eucaristía será cantada por el coro de la Hermandad de Ntra. Sra. del Rocío la Estrella\, “Camino y Rocío”
URL:https://rociolaestrella.org/event/5-6-santa-misa-de-funeral-por-el-eterno-descanso-de-concha/
LOCATION:Parroquia de Nuestra Señora de la Misericordia\, C/ Arroyo del Olivar\, 100\, Madrid\, Madrid\, 28028\, España
END:VEVENT
END:VCALENDAR