BEGIN:VCALENDAR
VERSION:2.0
PRODID:-//Rocío La Estrella - ECPv5.14.1//NONSGML v1.0//EN
CALSCALE:GREGORIAN
METHOD:PUBLISH
X-WR-CALNAME:Rocío La Estrella
X-ORIGINAL-URL:https://rociolaestrella.org
X-WR-CALDESC:Eventos para Rocío La Estrella
REFRESH-INTERVAL;VALUE=DURATION:PT1H
X-Robots-Tag:noindex
X-PUBLISHED-TTL:PT1H
BEGIN:VTIMEZONE
TZID:UTC
BEGIN:STANDARD
TZOFFSETFROM:+0000
TZOFFSETTO:+0000
TZNAME:UTC
DTSTART:20220101T000000
END:STANDARD
END:VTIMEZONE
BEGIN:VEVENT
DTSTART;TZID=UTC:20220129T183000
DTEND;TZID=UTC:20220129T210000
DTSTAMP:20260423T143034
CREATED:20220121T173632Z
LAST-MODIFIED:20220121T180651Z
UID:6322-1643481000-1643490000@rociolaestrella.org
SUMMARY:V SABATINA MISA DE LA CANDELARIA DE LA HDAD. DE NTRA. SRA. DEL ROCÍO LA ESTRELLA DE MADRID
DESCRIPTION:El sábado 29 de enero se celebra la V Sabatina de la Solemne Novena que la Hermandad de Ntra. Sra. del Rocío la Estrella de Madrid consagra en honor de su venerada Titular\, Virgen del Rocío\, dedicada a los niños. Tendrá lugar en nuestra Parroquia de Ntra. Sra. de la Misericordia de Madrid\, C/ Arroyo del Olivar\, 100. \nOficiará la Santa Misa el Consiliario de la Hermandad\, Rvdo. P. D. Felipe Rosario Bruno. \nSerá retransmitida EN FACEBOOK : “Hermandad Rocío la Estrella” \nSerá cantada por el coro de la Hermandad “Camino y Rocío” \nEl orden será el siguiente: \n\n18:30 h. Novena a la Virgen del Rocío y asamblea de hermanos.\n19:00 h. Santo Rosario.\n19:30 h. Santa Misa.
URL:https://rociolaestrella.org/event/v-sabatina-misa-de-la-candelaria-de-la-hdad-de-ntra-sra-del-rocio-la-estrella-de-madrid/
LOCATION:Parroquia de Nuestra Señora de la Misericordia\, C/ Arroyo del Olivar\, 100\, Madrid\, Madrid\, 28028\, España
CATEGORIES:Sabatina de la Hermandad
ORGANIZER;CN="D.%20Enrique%20J.%20%C3%9Abeda%20Moreno":MAILTO:hermandad@rociolaestrella.org
END:VEVENT
END:VCALENDAR