BEGIN:VCALENDAR
VERSION:2.0
PRODID:-//Rocío La Estrella - ECPv5.14.1//NONSGML v1.0//EN
CALSCALE:GREGORIAN
METHOD:PUBLISH
X-WR-CALNAME:Rocío La Estrella
X-ORIGINAL-URL:https://rociolaestrella.org
X-WR-CALDESC:Eventos para Rocío La Estrella
REFRESH-INTERVAL;VALUE=DURATION:PT1H
X-Robots-Tag:noindex
X-PUBLISHED-TTL:PT1H
BEGIN:VTIMEZONE
TZID:UTC
BEGIN:STANDARD
TZOFFSETFROM:+0000
TZOFFSETTO:+0000
TZNAME:UTC
DTSTART:20220101T000000
END:STANDARD
END:VTIMEZONE
BEGIN:VEVENT
DTSTART;TZID=UTC:20220317T090000
DTEND;TZID=UTC:20220521T223000
DTSTAMP:20260423T093601
CREATED:20220328T180931Z
LAST-MODIFIED:20220329T153907Z
UID:6370-1647507600-1653172200@rociolaestrella.org
SUMMARY:XXV Pregón rociero de la Hermandad
DESCRIPTION:  \n \nDavid Díaz Rodríguez\, trianero\, poeta\, compositor y gran enamorado del Rocío\, será este año el pregonero del XXV Pregón Rociero de la Hermandad de Ntra. Sra. del Rocío la Estrella de Madrid. El próximo 21 de mayo de 2022\, D. m.\, tendremos el placer de escuchar su Pregón en la Parroquia de Ntra. Sra. de la Misericordia y será presentado por D. Antonio Marín Peña. El acto tendrá lugar a las 20:30 h.\, después IX Sabatina Novena a la Virgen del Rocío que la Hermandad celebrará dentro del Triduo de preparación para el camino hacia la Romería del Rocío. \nSin lugar a dudas\, será un privilegio escuchar y vivir los grandes momentos que este gran rociero y pregonero nos brindará con su elocuencia y amor a la Virgen del Rocío. \nSEMBLANZA\nDavid Díaz Rodríguez (David Díaz) nació en Triana un invierno del 75 en el Corral de los presos\, conocido así\, por ser un campo de concentración franquista para republicanos\, un patio de vecinos\, muy humilde. Allí también nacería Lina\, la famosa diseñadora de moda flamenca. \nSu infancia estuvo ligada al flamenco\, con artistas que acudían prestos a la juerga\, como la bailaora Matilde Coral\, Rafael el Negro\, El Mimbre\, el genio de la guitarra Rafael Riqueni\, Naranjito de Triana… \nEsto marcó su amor por la música y el Flamenco\, destacó desde muy pequeño\, escribiendo a muy temprana edad\, apenas 7 años\, desde entonces leía a autores como Bécquer\, Lorca\, Machado\, Altolaguirre\, Cernuda\, Hernández… \nDebido al trabajo su padre y a otros motivos algo más trágicos que según David\, despertaron al poeta que le gana todas las partidas\, se desplaza a Lepe (Huelva) allí se enamora perdidamente de su patrona La Virgen de la Bella\, a la que tuvo la suerte de pregonar en 2007\, pasando su pregón a la historia por la pasión y la entrega con la que fue escrito y recitado \nLa voz\, siempre fue para Díaz otra de sus pasiones\, no en vano es actor de doblaje titulado\, aunque no ejerce\, canta flamenco\, recitando. “Recito por Soleá y me acuerdo de Tomás Pavón” soy un cantaor que recita pero no canta\, argumenta. \nCompone para varios artistas internacionales pero su amor desmedido por el Rocío y el flamenco\, le hace componer para Marismeños\, El Mani\, Manguara\, Brumas\, Savia Nueva\, Rocío Díaz\, Macarena de la Torre o El Pele. \nEn su patria chica\, Triana\, realizó\, junto al grupo Salobre\, un homenaje a los Romeros de la Puebla con el propio grupo sintiéndolo en persona en la Velá de Santa Ana. \nCaminos de la Memoria\, Son sevillanas\, Azul\, El Cuarto de los Cabales\, Navidad flamenca: Dios nace cada día\, Camino de vuelta\, Rapsodiando\, Mis Fantasmas y yo… \nSon algunas de las obras de teatro\, dirigidas\, producidas e interpretadas por David. \nEn cuanto a pregones: Pregón de la Hermandad de Cartagena\, Pregón de la Hermandad de Emigrantes de Huelva\, Pregón a la Virgen de la Bella. \nPresentaciones de espectáculos y eventos\, maestro de ceremonias\, locutor en el programa de radio Servalabari de la radio sevillana Onda capital\, artículos periodísticos\, guiones para radio\, televisión y cine. \nDavid es productor ejecutivo y propietario de Etcétera y Buenaventura\, dos empresas de innovación tecnológica y experto en transformación digital. \nOrgulloso padre de Mateo y nieto de la almonteña más auténtica de Triana\, su abuela Antonia. Soy lo que soy\, gracias a ella\, lo tengo claro. Dixit. \nVendrá acompañado a la guitarra y a la voz de José María Rodríguez\, alguien a quien considera su hermano y con el que ha compuesto y creado casi toda su carrera artística. \nComo dice una de sus composiciones: \n  \nCon todo lo que he “vivío” \nPor más que siga contando \nTengo claro lo que digo: \nYo nunca he cumplido años \nYo sólo cumplo Rocíos.
URL:https://rociolaestrella.org/event/xxv-pregon-rociero-de-la-hermandad/
LOCATION:Parroquia de Nuestra Señora de la Misericordia\, C/ Arroyo del Olivar\, 100\, Madrid\, Madrid\, 28028\, España
CATEGORIES:Sabatina de la Hermandad
ORGANIZER;CN="D.%20Enrique%20J.%20%C3%9Abeda%20Moreno":MAILTO:hermandad@rociolaestrella.org
END:VEVENT
END:VCALENDAR