BEGIN:VCALENDAR
VERSION:2.0
PRODID:-//Rocío La Estrella - ECPv5.14.1//NONSGML v1.0//EN
CALSCALE:GREGORIAN
METHOD:PUBLISH
X-WR-CALNAME:Rocío La Estrella
X-ORIGINAL-URL:https://rociolaestrella.org
X-WR-CALDESC:Eventos para Rocío La Estrella
REFRESH-INTERVAL;VALUE=DURATION:PT1H
X-Robots-Tag:noindex
X-PUBLISHED-TTL:PT1H
BEGIN:VTIMEZONE
TZID:UTC
BEGIN:STANDARD
TZOFFSETFROM:+0000
TZOFFSETTO:+0000
TZNAME:UTC
DTSTART:20220101T000000
END:STANDARD
END:VTIMEZONE
BEGIN:VEVENT
DTSTART;VALUE=DATE:20220917
DTEND;VALUE=DATE:20220925
DTSTAMP:20260423T010139
CREATED:20220918T085857Z
LAST-MODIFIED:20221018T170827Z
UID:6902-1663372800-1664063999@rociolaestrella.org
SUMMARY:VII ENCUENTRO DE HERMANDADES ROCIERAS DE LA ZONA CENTRO SEPTIEMBRE 2022
DESCRIPTION:VII Encuentro de Hermandades del Rocío de la zona centro fechas y horarios con toda la información de los actos del próximo encuentro anual de Hermandades que este año organiza la Hermandad de Nuestra Señora del Rocío de Moratalaz-Madrid. \nEstamos todos invitados a participar y acompañar a nuestro Bendito Simpecado a dichos acto. \nCómo actos principales reseñamos:  \n\n18 de Septiembre a las 11.30h (Actuación de coros\, Pará Rociera\, participa el coro de nuestra Hermandad)\n\n24 de Septiembre\n\n\n\n17:30h. concentración de Hermandades.\n18h Procesión de todos las Hermandades y sus Simpecados\, hasta la Catedral de la Almudena.\n19h Santa Misa Pontifical.\nPosteriormente a las 22h habrá un cena que se puede apuntar cualquier hermano. Enviamos en un cartel la información de la cena dónde viene todo detallado. (Dichas gestiones de la cena se han de realizar y gestionar particularmente si se decide asistir a la misma) \n\nTodo se indica en los carteles \n  .
URL:https://rociolaestrella.org/event/vii-encuentro-de-hermandades-rocieras-de-la-zona-centro-septiembre-2022/
LOCATION:Catedral de Santa maría la Real de la Almudena\, Calle de Bailén\, 10\, Madrid\, Madrid\, 28013\, España
CATEGORIES:Sabatina de la Hermandad
END:VEVENT
END:VCALENDAR