BEGIN:VCALENDAR
VERSION:2.0
PRODID:-//Rocío La Estrella - ECPv5.14.1//NONSGML v1.0//EN
CALSCALE:GREGORIAN
METHOD:PUBLISH
X-WR-CALNAME:Rocío La Estrella
X-ORIGINAL-URL:https://rociolaestrella.org
X-WR-CALDESC:Eventos para Rocío La Estrella
REFRESH-INTERVAL;VALUE=DURATION:PT1H
X-Robots-Tag:noindex
X-PUBLISHED-TTL:PT1H
BEGIN:VTIMEZONE
TZID:UTC
BEGIN:STANDARD
TZOFFSETFROM:+0000
TZOFFSETTO:+0000
TZNAME:UTC
DTSTART:20230101T000000
END:STANDARD
END:VTIMEZONE
BEGIN:VEVENT
DTSTART;TZID=UTC:20230604T080000
DTEND;TZID=UTC:20230625T170000
DTSTAMP:20260422T113540
CREATED:20230604T230005Z
LAST-MODIFIED:20230604T102427Z
UID:14339-1685865600-1687712400@rociolaestrella.org
SUMMARY:SANTA MISA DE ACCIÓN DE GRACIAS Y CAMBIO DE VARAS DE LA HDAD. DE NTRA. SRA. DEL ROCÍO LA ESTRELLA DE MADRID
DESCRIPTION:El sábado 24 de junio se celebrará la Santa Misa de Acción de Gracias que la Hermandad de Ntra. Sra. del Rocío la Estrella de Madrid consagra en honor de su venerada Titular\, Virgen del Rocío. En dicho acto se realizará el Cambio de Varas de la nueva Junta de Gobierno. \nTendrá lugar en nuestra Parroquia de Ntra. Sra. de la Misericordia de Madrid\, C/ Arroyo del Olivar\, 100\, \nOficiará la Santa Misa el Consiliario de la Hermandad\, Rvdo. P. D. Felipe Rosario Bruno\, \nLa celebración será cantada por el coro de la Hermandad “Camino y Rocío” \nEl orden será el siguiente: \n\n18:30 h. Asamblea de hermanos.\n19:30 h. Santo Rosario.\n20:00 h. Santa Misa.\n21:30 h. Vino español. (los hermanos pueden traer viandas para compartir en este día tan especial)\n\nQue la Virgen del Rocío llene de Paz\, Amor y Caridad todas nuestras familias y que la Fe Rociera llene nuestros corazones. \nSaludos\, que Cristo y su Santísima Madre\, Santa María del Rocío\, os acompañen en vuestro caminar.
URL:https://rociolaestrella.org/event/santa-misa-de-accion-de-gracias-y-cambio-de-varas-de-la-hdad-de-ntra-sra-del-rocio-la-estrella-de-madrid/
LOCATION:Parroquia de Nuestra Señora de la Misericordia\, C/ Arroyo del Olivar\, 100\, Madrid\, Madrid\, 28028\, España
CATEGORIES:Sabatina de la Hermandad
ORGANIZER;CN="D.%20Enrique%20J.%20%C3%9Abeda%20Moreno":MAILTO:hermandad@rociolaestrella.org
END:VEVENT
END:VCALENDAR