BEGIN:VCALENDAR
VERSION:2.0
PRODID:-//Rocío La Estrella - ECPv5.14.1//NONSGML v1.0//EN
CALSCALE:GREGORIAN
METHOD:PUBLISH
X-WR-CALNAME:Rocío La Estrella
X-ORIGINAL-URL:https://rociolaestrella.org
X-WR-CALDESC:Eventos para Rocío La Estrella
REFRESH-INTERVAL;VALUE=DURATION:PT1H
X-Robots-Tag:noindex
X-PUBLISHED-TTL:PT1H
BEGIN:VTIMEZONE
TZID:UTC
BEGIN:STANDARD
TZOFFSETFROM:+0000
TZOFFSETTO:+0000
TZNAME:UTC
DTSTART:20240101T000000
END:STANDARD
END:VTIMEZONE
BEGIN:VEVENT
DTSTART;TZID=UTC:20240908T080000
DTEND;TZID=UTC:20240928T233000
DTSTAMP:20260421T123701
CREATED:20240908T162809Z
LAST-MODIFIED:20240908T163137Z
UID:18884-1725782400-1727566200@rociolaestrella.org
SUMMARY:I SABATINA DE LA HERMANDAD DE NTRA. SRA. DEL ROCÍO LA ESTRELLA
DESCRIPTION:  \nEl sábado 28 de septiembre se celebra la I Sabatina de la Solemne Novena que la Hermandad de Ntra. Sra. del Rocío la Estrella de Madrid consagra en honor de su venerada Titular\, Virgen del Rocío. \nTendrá lugar en nuestra Parroquia de Ntra. Sra. de la Misericordia de Madrid\, C/ Arroyo del Olivar\, 100. \nOficiará la Santa Misa el Consiliario de la Hermandad\, Rvdo. P. D. Felipe Rosario Bruno \nEste acto será cantado por el coro de la Hermandad “Camino y Rocío”\, con el siguiente orden:. \n\n18:00 h. Novena a la Virgen del Rocío. (aproximadamente)\n19:00 h. Santo Rosario.\n19:30 h. Santa Misa.\n21:00 h. Convivencia de hermanos en los salones parroquiales ( los hermanos pueden traer viandas para compartir)\n\n\nQue la Virgen llene de Paz\, Amor y Caridad todas nuestras familias y que la Fe Rociera llene nuestros corazones. \nSaludos en Cristo y su Santísima Madre\, Santa María del Rocío\, os acompañe en vuestro caminar \n 
URL:https://rociolaestrella.org/event/i-sabatina-de-la-hermandad-de-ntra-sra-del-rocio-la-estrella/
LOCATION:Parroquia de Nuestra Señora de la Misericordia\, C/ Arroyo del Olivar\, 100\, Madrid\, Madrid\, 28028\, España
CATEGORIES:Sabatina de la Hermandad
ORGANIZER;CN="D.%20Jois%C3%A9%20Luis%20Campuzano%20Mart%C3%ADnez":MAILTO:hermandad@rociolaestrella.org
END:VEVENT
END:VCALENDAR