BEGIN:VCALENDAR
VERSION:2.0
PRODID:-//Rocío La Estrella - ECPv5.14.1//NONSGML v1.0//EN
CALSCALE:GREGORIAN
METHOD:PUBLISH
X-WR-CALNAME:Rocío La Estrella
X-ORIGINAL-URL:https://rociolaestrella.org
X-WR-CALDESC:Eventos para Rocío La Estrella
REFRESH-INTERVAL;VALUE=DURATION:PT1H
X-Robots-Tag:noindex
X-PUBLISHED-TTL:PT1H
BEGIN:VTIMEZONE
TZID:UTC
BEGIN:STANDARD
TZOFFSETFROM:+0000
TZOFFSETTO:+0000
TZNAME:UTC
DTSTART:20240101T000000
END:STANDARD
END:VTIMEZONE
BEGIN:VEVENT
DTSTART;TZID=UTC:20241121T080000
DTEND;TZID=UTC:20241130T233000
DTSTAMP:20260421T082548
CREATED:20241121T182456Z
LAST-MODIFIED:20241121T182556Z
UID:19354-1732176000-1733009400@rociolaestrella.org
SUMMARY:III SABATINA DE LA NOVENA DE LA HERMANDAD DE NTRA. SRA. DEL ROCÍO LA ESTRELLA DE MADRID
DESCRIPTION:El sábado 30 de noviembre se celebra la III Sabatina de la Solemne Novena que la Hermandad de Ntra. Sra. del Rocío la Estrella de Madrid consagra en honor de su venerada Titular\, Virgen del Rocío. Tendrá lugar en nuestra Parroquia de Ntra. Sra. de la Misericordia de Madrid\, C/ Arroyo del Olivar\, 100\, \nOficiará la Santa Misa el Consiliario de la Hermandad\, Rvdo. P. D. Felipe Rosario Bruno\, \nSerá cantará la celebración el coro de la Hermandad “Camino y Rocío” \nEl orden será el siguiente: \n\n18:30 h. Novena a la Virgen del Rocío y Asamblea de hermanos.\n19:00 h. Santo Rosario.\n19:30 h. Santa Misa.\n21:00 h. Convivencia de hermanos en los salones parroquiales ( los hermanos pueden traer viandas para compartir)\n\nQue la Virgen llene de Paz\, Amor y Caridad todas nuestras familias y que la Fe Rociera llene nuestros corazones. \nSaludos en Cristo y su Santísima Madre\, Santa María del Rocío\, os acompañe en vuestro caminar
URL:https://rociolaestrella.org/event/iii-sabatina-de-la-novena-de-la-hermandad-de-ntra-sra-del-rocio-la-estrella-de-madrid/
LOCATION:Parroquia de Nuestra Señora de la Misericordia\, C/ Arroyo del Olivar\, 100\, Madrid\, Madrid\, 28028\, España
CATEGORIES:Sabatina de la Hermandad
ORGANIZER;CN="D.%20Jois%C3%A9%20Luis%20Campuzano%20Mart%C3%ADnez":MAILTO:hermandad@rociolaestrella.org
END:VEVENT
BEGIN:VEVENT
DTSTART;TZID=UTC:20241126T080000
DTEND;TZID=UTC:20241222T030000
DTSTAMP:20260421T082548
CREATED:20241126T173803Z
LAST-MODIFIED:20241126T173842Z
UID:19389-1732608000-1734836400@rociolaestrella.org
SUMMARY:Santa Misa de Navidad y cena de hermandad 2024
DESCRIPTION:El sábado 21 de diciembre dará comienzo  la IV Sabatina de la Solemne  Novena que la Hermandad de Ntra. Sra. del Rocío la Estrella de Madrid consagra en honor de su venerada Titular\, Virgen del Rocío\, dedicada a los niños. Tendrá lugar en nuestra  Parroquia de Ntra. Sra. de la Misericordia de Madrid\, C/ Arroyo del Olivar\, 100\, vuestra participación es importante para ver cómo se ensalza al Niño Jesús. Sobre las 19:00 horas con este orden: ejercicio de la Novena\, Santo Rosario\, y celebración de la Eucaristía.  \nOficiará nuestro Consiliario Rvdo. P. D. Felipe Rosario Bruno.  \nCantará el coro de nuestra Hermandad\, “Camino y Rocío”. \nCena de Hermandad a las 22:00 horas. En el restaurante MUXIA\, dirección; Calle Polígono Industrial de Vallecas\, Camino de Hormigoneras\, 112\, 28031 Madrid. Actuará un grupo musical. Se terminará la cena a las 03:00 de la mañana. \n 
URL:https://rociolaestrella.org/event/santa-misa-de-navidad-y-cena-de-hermandad-2024/
LOCATION:Parroquia de Nuestra Señora de la Misericordia\, C/ Arroyo del Olivar\, 100\, Madrid\, Madrid\, 28028\, España
CATEGORIES:Sabatina de la Hermandad
ORGANIZER;CN="D.%20Jois%C3%A9%20Luis%20Campuzano%20Mart%C3%ADnez":MAILTO:hermandad@rociolaestrella.org
END:VEVENT
END:VCALENDAR