BEGIN:VCALENDAR
VERSION:2.0
PRODID:-//Rocío La Estrella - ECPv5.14.1//NONSGML v1.0//EN
CALSCALE:GREGORIAN
METHOD:PUBLISH
X-WR-CALNAME:Rocío La Estrella
X-ORIGINAL-URL:https://rociolaestrella.org
X-WR-CALDESC:Eventos para Rocío La Estrella
REFRESH-INTERVAL;VALUE=DURATION:PT1H
X-Robots-Tag:noindex
X-PUBLISHED-TTL:PT1H
BEGIN:VTIMEZONE
TZID:UTC
BEGIN:STANDARD
TZOFFSETFROM:+0000
TZOFFSETTO:+0000
TZNAME:UTC
DTSTART:20210101T000000
END:STANDARD
END:VTIMEZONE
BEGIN:VEVENT
DTSTART;VALUE=DATE:20210507
DTEND;VALUE=DATE:20210508
DTSTAMP:20260425T031444
CREATED:20211025T144522Z
LAST-MODIFIED:20211025T144522Z
UID:5759-1620345600-1620431999@rociolaestrella.org
SUMMARY:PRIMER DÍA DE TRIDUO IX SABATINA DE LA HERMANDAD
DESCRIPTION:Día 7 de mayo\, a las 19:30 horas\, en la iglesia de Nuestra Señora de la Piedad\, c/ Antonio Folgueras\, 24\, 28018 Madrid. PRIMER DÍA DE TRIDUO Y IX SABATINA DE LA NOVENA EN HONOR DE LA VENERADA TITULAR VIRGEN DEL ROCÍO. NOVENA Y EUCARISTÍA\, se dedicará a los difuntos de la Hermandad\, la oficiará el Consiliario de la Hermandad\, Rvdo. P. D. Enrique Pérez Bañón.\n\n\n\n\n \n \nIX Novena\, primer día de Triduo\, el viernes\, día 7 de mayo 2021\, en la Iglesia de Ntra. Sra. de la Piedad\, calle  Antonio Folgueras\, 24\, 28018 Madrid.\, que oficiará el Consiliario\, Rvdo. P. D. Enrique Pérez Bañón. \n– 19:30 horas con este orden: Ejercicio de la Novena a nuestra Venerada Virgen del Rocío y celebración de la Eucaristía. Oficiará nuestro Consiliario\, Rvdo. P. D. Enrique Pérez Bañón. La Misa será cantada por el coro de la Hermandad\, “Camino y Rocío”.
URL:https://rociolaestrella.org/event/primer-dia-de-triduo-ix-sabatina-de-la-hermandad/
LOCATION:Huelva
END:VEVENT
BEGIN:VEVENT
DTSTART;VALUE=DATE:20210508
DTEND;VALUE=DATE:20210509
DTSTAMP:20260425T031444
CREATED:20211025T144241Z
LAST-MODIFIED:20211025T144241Z
UID:5751-1620432000-1620518399@rociolaestrella.org
SUMMARY:XXIV PREGÓN DE LA HERMANDAD DE NUESTRA SEÑORA DEL ROCÍO LA ESTRELLA
DESCRIPTION:D. Cesar Sánchez Ruiz tomó hace unos días el compromiso de desvelar las maravillas del Rocío en el XXIV Pregón rociero de la Hermandad de Ntra. Sra. del Rocío la Estrella de Madrid. El próximo 8 de mayo de 2021\, D. m.\, tendremos el placer de escuchar su Pregón en la Parroquia de Ntra. Sra. de la Piedad y será presentado por nuestra amiga rociera Dña. Marta Santos Sánchez. El acto tendrá lugar a las 20:30 h.\, después VIII Sabatina Novena a la Virgen del Rocío\, que la Hermandad celebrará para poder realizar el Triduo y preparar el camino hacia el Rocío de Esperanza\, que nos marca la Pontificia\, Real e Ilustre Hermandad Matriz de Nuestra Señora del Rocío de Almonte\, visionando el llegar a la Aldea\, postrarse a las plantas de la Virgen Marismeña\, esa Blanca Paloma\, la Virgen del Rocío\, la Madre del Pastorcito Divino.\n\n\n\n\n \nD. Cesar Sánchez Ruiz tomó hace unos días el compromiso de desvelar las maravillas del Rocío en el XXIV Pregón rociero de la Hermandad de Ntra. Sra. del Rocío la Estrella de Madrid. El próximo 8 de mayo de 2021\, D. m.\, tendremos el placer de escuchar su Pregón en la Parroquia de Ntra. Sra. de la Piedad y será presentado por nuestra amiga rociera Dña. Marta Santos Sánchez. El acto tendrá lugar a las 20:30 h.\, después VIII Sabatina Novena a la Virgen del Rocío\, que la Hermandad celebrará para poder realizar el Triduo y preparar el camino hacia el Rocío de Esperanza\, que nos marca la Pontificia\, Real e Ilustre Hermandad Matriz de Nuestra Señora del Rocío de Almonte\, visionando el  llegar a la Aldea\, postrarse a las plantas de la Virgen Marismeña\, esa Blanca Paloma\, la Virgen del Rocío\, la Madre del Pastorcito Divino. \n \nCesar Sánchez Ruiz\, nace el 26 de Octubre de 1959 en un pueblo de la provincia de Ciudad Real. \nSe siente cofrade\, costalero y Rociero en la vida. Hablando de Cesar cofrade\, Es hermano de la Hermandad de Ntro. Padre de la Salud y Mª Santísima de las Angustias. (Hdad de los Gitanos de Madrid)\, saliendo en la estación de penitencia durante muchos años como costalero del paso del Cristo de los Gitanos y del paso de Mª de las Angustias. El domingo de resurrección de hace dos años fue costalero con mucho orgullo\, del Paso de La Virgen del Rocío de la Hdad. De Segovia. \nHa participado como costalero en varias Estaciones de Penitencia de Madrid. \nHa sido pregonero del Rocío\, en la Hdad de Bollullos de La Mitacion\, su Hdad de las Rozas y en la Hermandad de Alcalá de Henares. Presentador del pregonero en las Hermandades de Alcalá de Henares y En Medina del campo \nLa primera vez que toma contacto con el mundo rociero y con Sanlúcar de Barrameda\,  reconoce que no sabía absolutamente nada del Rocío. Se vio envuelto en un mundo diferente\, en una realidad de ensueño que le atraía\, aunque no llegara a entender el fervor y la pasión que veía a su alrededor. \nFue un lunes de madrugada cuando se encontró ante las puertas de la Ermita\, en medio de la agitación de miles de almas rocieras que\, cansadas aún del camino\, veían un año más su sueño cumplido. Así\, entre vivas sin cesar y plegarias por doquier\, sintió que la Señora le llamaba\, y que con su mirada hacía despertar en él un sentimiento indescriptible. Entonces\, no puede negar que su corazón empezó a latir con fuerza y un escalofrío recorrió su cuerpo. Sin esperarlo\, Ella vino hacia él y\, sin pretenderlo\, casi sin darse cuenta\, se encontró bajo su hechizo de fe.  Él siempre dice\, que no fue el  que escogió ser rociero si no que fue la Virgen quien lo eligió a él. No sabe cuánto tiempo estuvo\, pero cuando salió\, entre sudor y lágrimas\, presentía que algo había cambiado en sus adentros. Como una reconversión  como le sucedería a San Pablo en su camino a Damasco.  Fue en aquel momento cuando nació la fe y la devoción que hoy siente. \nAquel sería\, sin duda\, allá por 1985 el principio de su devoción rociera. Después de eso vinieron a su vida rocíos inolvidables\, los cuales los sintió y los vivió con intensidad arrolladora. \nPrecisamente\, ese intenso sentir rociero que hoy invade en su alma en su totalidad tuvo su inicio en febrero de 2002 cuando\, junto a otros compañeros llenos de ilusión\, decidieron formar la Hermandad de Las Rozas\, con la finalidad de dar culto a Dios por mediación de la Virgen María\, bajo la advocación de Ntra. Sra. del Rocío. De la cual fue presidente durante trece años\, posteriormente fue nombrado presidente honorifico de su Hermandad. \nLe gusta vivir en Hermandad\, recuerda con cierta melancolía\, que  dentro de la Hermandad ha ido coleccionando muchos rocíos\, llenando ilusiones en su corazón\,  muchos recuerdos que le han ido marcando. Se le han quedado muchas cosas en el camino; muchos caminos andados\, muchas huellas dejadas atrás\, muchas penas y alegrías\, y muchos ¡vivas! entonados. “Piensa en Hermandad” vive por y para el Rocío. Considera que nuestro camino comienza y acaba pensando en María. \nDespués de tantos años\, está plenamente convencido que para él la Virgen es la razón de su ser\, la Señora es la luz que le guía en la senda de su vida. Agradece al Pastorcito Divino\, por hacerle vivir en Hermandad y en su camino\, a través\, de su Madre\, bajo la advocación de María Santísima del Rocío. \nEsta “primera figura” de los Pregones rocieros ha derramado su arte en diversas Hermandades de toda España. \n \nSerá presentado por Dña. Marta Santos Sánchez\, hermana  de la Hermandad de Ntra. Sra. del Rocío de Rozas de Madrid. \n“Marta Santos Sánchez\, nace en Madrid el 11 de Julio de 1974. Diplomada en Magisterio y licenciada en Psicopedagogía ha podido dedicarse toda su vida laboral a su gran vocación\, “la enseñanza”. De indudable vocación Mariana. Este amor a la Santísima Virgen del Rocío\, le lleva al mundo rociero. Vive y siente el Rocío desde hace 12 años.  Llevada de la mano de sus Padres José y Carmen con indudable pasión rociera y\, mirando el rostro de la Blanca Paloma agarrada como un imán a la reja supo que su vida estaría eternamente ligada a la Virgen del Rocío. Empezaron a frecuentar la Hermandad del Rocío de Las Rozas de la que es hermana desde el 2006. \nDesde entonces no ha dejado de acudir al Rocío año tras año. Y como ella dice muchas veces: su año no empieza el 1 de enero… empieza el martes después de pentecostés. Pese a su corta experiencia rociera\, cuando el trabajo se lo permite le encanta hacer el camino\, y si no\, siempre está delante de la Ermita el lunes de Pentecostés\, para ver salir en procesión a la Blanca Paloma. \nSus sentimientos rocieros le hacen implicarse en el mundo del Rocío con gran dedicación al ambiente en hermandad\, en 2016 entra en contacto con la Ilustre Hdad. de Ntra. Sra. Del Rocío de Madrid. Junto a su marido Pedro\, transmite la vida cristiana inculcando las raíces rocieras a sus dos hijos Miguel y Álvaro siendo éstos jóvenes semilla de tamborileros en la Hdad. del Rocío Madrid”
URL:https://rociolaestrella.org/event/xxiv-pregon-de-la-hermandad-de-nuestra-senora-del-rocio-la-estrella/
LOCATION:Huelva
END:VEVENT
BEGIN:VEVENT
DTSTART;VALUE=DATE:20210508
DTEND;VALUE=DATE:20210509
DTSTAMP:20260425T031444
CREATED:20211025T144412Z
LAST-MODIFIED:20211025T144412Z
UID:5754-1620432000-1620518399@rociolaestrella.org
SUMMARY:SEGUNDO DÍA DE TRIDUO Y PREGÓN ROCIERO POR D. CESAR SÁNCHEZ RUIZ
DESCRIPTION:Segundo día de Triduo y pregón rociero proclamado por D.Cesar Sánchez Ruiz \, el sábado\, día 8 de mayo 2021 a las 19:30 h\, en la Iglesia de Ntra. Sra. de la Piedad\, calle c/Antonio Folgueras\, 24 28018 Madrid\, que oficiará la Eucaristía el Vicario Parroquial\, Rvdo. P. D. Manuel Sánchez García Loigorri. A las 20:30 horas\, TENDRÁ LUGAR EL XXIV PREGÓN ROCIERO A CARGO DE D. CÉSAR SÁNCHEZ RUIZ\, PRESENTADO POR DÑA. MARTA SANTOS SÁNCHEZ.\n\n\n\n\n \n \nSegundo día de Triduo y pregón rociero\, el sábado\, día 8 de mayo 2021 alas 19:30 h\, en la Iglesia de Ntra. Sra. de la Piedad\, calle c/Antonio Folgueras\, 24 28018 Madrid\, que oficiará la Eucaristía el Vicario Parroquial\, Rvdo. P. D. Manuel Sánchez García Loigorri. \nLa Misa será cantada por el coro de la Hermandad\, “Camino y Rocío”. \n \n20:30 horas se realizará el XXIV Pregón rociero. La moción del Pregonero será realizado por nuestro Secretario D. Antonio Ropa Mañas. La presentación del pregonero  lo realizará Dña. Marta Santos Sánchez\, de la  Hermandad de Ntra. Sra. del Rocío de las Rozas de Madrid. El Pregón rociero será dado por el reconocido pregonerao y conferenciante\, D. Cesar Sánchez Ruiz\, rociero por la gracia de Dios\, Presidente de honor de la  Hermandad de Ntra. Sra. del Rocío de las Rozas de Madrid. \n 
URL:https://rociolaestrella.org/event/segundo-dia-de-triduo-y-pregon-rociero-por-d-cesar-sanchez-ruiz/
LOCATION:Huelva
END:VEVENT
BEGIN:VEVENT
DTSTART;VALUE=DATE:20210509
DTEND;VALUE=DATE:20210510
DTSTAMP:20260425T031444
CREATED:20211025T144043Z
LAST-MODIFIED:20211025T144043Z
UID:5746-1620518400-1620604799@rociolaestrella.org
SUMMARY:TERCER DÍA DE TRIDUO DE LA HERMANDAD
DESCRIPTION:Día 9 de mayo\, a las 13:00 horas\, en la iglesia de Nuestra Señora de la Piedad\, c/ Antonio Folgueras\, 24\, 28018 Madrid. TERCER DÍA DE TRIDUO EN HONOR DE LA VENERADA TITULAR VIRGEN DEL ROCÍO. La Eucaristía será oficiada por el Consiliario de la Hermandad\, Rvdo. P. D. Enrique Pérez Bañón.\n\n\n\n\n \n \nTercer día de Triduo\, el domingo\, día 9 de mayo 2021\, en la Iglesia de Ntra. Sra. de la Piedad\, calle  Antonio Folgueras\, 24\, 28018 Madrid.\, que oficiará el Consiliario\, Rvdo. P. D. Enrique Pérez Bañón. \nA las 13:00 horas\,celebración de la Eucaristía. Oficiará nuestro Consiliario\, Rvdo. P. D. Enrique Pérez Bañón.  \nLa Misa será cantada por el coro de la Hermandad\, “Camino y Rocío”.
URL:https://rociolaestrella.org/event/tercer-dia-de-triduo-de-la-hermandad/
LOCATION:Huelva
END:VEVENT
BEGIN:VEVENT
DTSTART;VALUE=DATE:20210523
DTEND;VALUE=DATE:20210524
DTSTAMP:20260425T031444
CREATED:20211025T143908Z
LAST-MODIFIED:20211025T143908Z
UID:5737-1621728000-1621814399@rociolaestrella.org
SUMMARY:SANTA MISA DE PENTECOSTÉS EN HONOR DE LA VENERADA TITULAR VIRGEN DEL ROCÍO.
DESCRIPTION:Día 23 de mayo\, a las 13:00 horas\, en la iglesia de Nuestra Señora de la Piedad\, c/ Antonio Folgueras\, 24\, 28018 Madrid.SANTA MISA DE PENTECOSTÉS EN HONOR DE LA VENERADA TITULAR VIRGEN DEL ROCÍO. La Eucaristía será oficiada por el Consiliario de la Hermandad\, Rvdo. P. D. Enrique Pérez Bañón.Sera retransmitida por las redes sociales de la Hermandad. EL FACEBOOK : “Hermandad Rocío la Estrella”\n\n\n\n\n \n \nDía 23 de mayo en la iglesia de Nuestra Señora de la Piedad\, c/ Antonio Folgueras\, 24\, 28018 Madrid.SANTA MISA DE PENTECOSTÉS EN HONOR DE LA VENERADA TITULAR VIRGEN DEL ROCÍO. Sera retransmitida por las redes sociales de la Hermandad. EL FACEBOOK : “Hermandad Rocío la Estrella” \nA las 13:00 horas\,celebración de la Eucaristía. Oficiará nuestro Consiliario\, Rvdo. P. D. Enrique Pérez Bañón.  \nLa Misa será cantada por el coro de la Hermandad\, “Camino y Rocío”.
URL:https://rociolaestrella.org/event/santa-misa-de-pentecostes-en-honor-de-la-venerada-titular-virgen-del-rocio/
LOCATION:Huelva
END:VEVENT
END:VCALENDAR