BEGIN:VCALENDAR
VERSION:2.0
PRODID:-//Rocío La Estrella - ECPv5.14.1//NONSGML v1.0//EN
CALSCALE:GREGORIAN
METHOD:PUBLISH
X-WR-CALNAME:Rocío La Estrella
X-ORIGINAL-URL:https://rociolaestrella.org
X-WR-CALDESC:Eventos para Rocío La Estrella
REFRESH-INTERVAL;VALUE=DURATION:PT1H
X-Robots-Tag:noindex
X-PUBLISHED-TTL:PT1H
BEGIN:VTIMEZONE
TZID:UTC
BEGIN:STANDARD
TZOFFSETFROM:+0000
TZOFFSETTO:+0000
TZNAME:UTC
DTSTART:20210101T000000
END:STANDARD
END:VTIMEZONE
BEGIN:VEVENT
DTSTART;VALUE=DATE:20210612
DTEND;VALUE=DATE:20210613
DTSTAMP:20260425T014046
CREATED:20211025T142806Z
LAST-MODIFIED:20211025T142806Z
UID:5735-1623456000-1623542399@rociolaestrella.org
SUMMARY:SANTA MISA DE ACCIÓN DE GRACIAS EN HONOR DE LA VENERADA TITULAR VIRGEN DEL ROCÍO
DESCRIPTION:Día 12 de junio\, a las 19:00 horas\, en la iglesia de Nuestra Señora de la Misericordia\, c/ Arroyo del Olivar\, 100\, 28018 Madrid.SANTA MISA DE ACCIÓN DE GRACIAS EN HONOR DE LA VENERADA TITULAR VIRGEN DEL ROCÍO\, con este orden: Santo Rosario y celebración de la Eucaristía\, que será oficiada por el Vicario Parroquial\, Rvdo. P. D. Manuel M. Sánchez García-Loigorri. Será retransmitida por las redes sociales de la Hermandad. EL FACEBOOK : “Hermandad Rocío la Estrella”\n\n\n\n\n \nDía 12 de junio\, a las 19:00 horas\, en la iglesia de Nuestra Señora de la Misericordia\, c/ Arroyo del Olivar\, 100\, 28018 Madrid.SANTA MISA DE ACCIÓN DE GRACIAS EN HONOR DE LA VENERADA TITULAR VIRGEN DEL ROCÍO. Será retransmitida por las redes sociales de la Hermandad. EL FACEBOOK : “Hermandad Rocío la Estrella” \nLa Eucaristía será oficiada por el Vicario Parroquial\, Rvdo. P. D. Manuel M. Sánchez García-Loigorri. \nLa Misa será cantada por el coro de la Hermandad\, “Camino y Rocío”. \nORDEN DE LOS ACTOS:\n\nSanto Rosario a las 19:00 h. \nSanta Misa a las 19:30 h.
URL:https://rociolaestrella.org/event/santa-misa-de-accion-de-gracias-en-honor-de-la-venerada-titular-virgen-del-rocio/
LOCATION:Huelva
END:VEVENT
END:VCALENDAR