BEGIN:VCALENDAR
VERSION:2.0
PRODID:-//Rocío La Estrella - ECPv5.14.1//NONSGML v1.0//EN
CALSCALE:GREGORIAN
METHOD:PUBLISH
X-WR-CALNAME:Rocío La Estrella
X-ORIGINAL-URL:https://rociolaestrella.org
X-WR-CALDESC:Eventos para Rocío La Estrella
REFRESH-INTERVAL;VALUE=DURATION:PT1H
X-Robots-Tag:noindex
X-PUBLISHED-TTL:PT1H
BEGIN:VTIMEZONE
TZID:UTC
BEGIN:STANDARD
TZOFFSETFROM:+0000
TZOFFSETTO:+0000
TZNAME:UTC
DTSTART:20220101T000000
END:STANDARD
END:VTIMEZONE
BEGIN:VEVENT
DTSTART;TZID=UTC:20221108T080000
DTEND;TZID=UTC:20221218T170000
DTSTAMP:20260423T230203
CREATED:20221108T090416Z
LAST-MODIFIED:20221204T180733Z
UID:9142-1667894400-1671382800@rociolaestrella.org
SUMMARY:IV SABATINA MISA DE NAVIDAD DE LA HDAD. DE NTRA. SRA. DEL ROCÍO LA ESTRELLA DE MADRID
DESCRIPTION:El sábado 17 de diciembre se celebra la IV Sabatina de la Solemne Novena que la Hermandad de Ntra. Sra. del Rocío la Estrella de Madrid consagra en honor de su venerada Titular\, Virgen del Rocío\, dedicada a los niños. Tendrá lugar en nuestra Parroquia de Ntra. Sra. de la Misericordia de Madrid\, C/ Arroyo del Olivar\, 100\, oficiará la Santa Misa el Consiliario de la Hermandad\, Rvdo. P. D. Felipe Rosario Bruno\, con el siguiente orden: \n\n18:30 h. Novena a la Virgen del Rocío y asamblea de hermanos.\n19:00 h. Santo Rosario.\n19:30 h. Santa Misa.\n21:30 h. Cena de Navidad en el restaurante “El Águila”\n\n 
URL:https://rociolaestrella.org/event/iv-sabatina-misa-de-navidad-de-la-hdad-de-ntra-sra-del-rocio-la-estrella-de-madrid-2/
LOCATION:Parroquia de Nuestra Señora de la Misericordia\, C/ Arroyo del Olivar\, 100\, Madrid\, Madrid\, 28028\, España
CATEGORIES:Sabatina de la Hermandad
ORGANIZER;CN="D.%20Enrique%20J.%20%C3%9Abeda%20Moreno":MAILTO:hermandad@rociolaestrella.org
END:VEVENT
BEGIN:VEVENT
DTSTART;TZID=UTC:20221109T000000
DTEND;TZID=UTC:20230530T020000
DTSTAMP:20260423T230203
CREATED:20221109T201225Z
LAST-MODIFIED:20221119T112320Z
UID:9148-1667952000-1685412000@rociolaestrella.org
SUMMARY:Romería del Rocío 2023
DESCRIPTION:  \nComunicamos a todos los hermanos\, que ya está abierta la inscripción para la Romería del Rocío 2023\, la cuota de inscripción es de 150\,00 €. La Hermandad\, pone a disposición de los hermanos una forma sencilla para ir pagando el coste de la misma\, se pueden hacer cómodas aportaciones mensuales de 50\,00 €\, que podrán ir depositando en la cuenta de la Hermandad  ES61 2038 1796 75 6000340809\, en la oficina\, o bien\, a nuestro Tesorero D. Manuel Velázquez o al Vicepresidente y Vocal Delegado de Romerías y Peregrinaciones D. José Luis González. \nTesorero                                        D. Manuel Velázquez            659 12 11 52\nPeregrinaciones y Romerías       D. José Luis González            607 84 14 50\nAlcalde Carretas                          D. Francisco Girón                 636 48 23 02 \nTambién se podrá apuntar vía telefónica e ingresar por banco.  \n EL ROCÍO\, SU ROMERÍA NO ES PARA “QUE TE LO CUENTEN ES PARA VIVIRLO”\, VEN CON NOSOTROS VIVIRÁS MOMENTOS INOLVIDABLES DESEOS QUE JAMÁS SE OLVIDA. \n¡¡¡APÚNTATE QUEDAN POCAS PLAZAS LIBRES!!!
URL:https://rociolaestrella.org/event/romeria-del-rocio-2023/
LOCATION:Santuario de la Virgen del Rocío\, El Rocío\, Almonte\, Huelva\, España
END:VEVENT
BEGIN:VEVENT
DTSTART;VALUE=DATE:20221119
DTEND;VALUE=DATE:20221227
DTSTAMP:20260423T230203
CREATED:20221119T111816Z
LAST-MODIFIED:20221204T180937Z
UID:9163-1668816000-1672099199@rociolaestrella.org
SUMMARY:LA NATIVIDAD DE JESUCRISTO HIJO DE DIOS PADRE
DESCRIPTION:. \nEl 25 de diciembre es el día de el nacimiento de Jesús\, hijo de Dios Padre que vino a redimir a la humanidad de sus pecados. Por eso\, este día se conmemora la Navidad.
URL:https://rociolaestrella.org/event/la-natividad-de-jesucristo-hijo-de-dios-padre/
LOCATION:LA IGLESIA UNIVERSAL
END:VEVENT
BEGIN:VEVENT
DTSTART;VALUE=DATE:20221207
DTEND;VALUE=DATE:20221210
DTSTAMP:20260423T230203
CREATED:20221207T183755Z
LAST-MODIFIED:20221207T183826Z
UID:9967-1670371200-1670630399@rociolaestrella.org
SUMMARY:DÍA DE LA INMACULADA CONCEPCIÓN
DESCRIPTION:¿Qué significa Inmaculada Concepción?\nEsto significa que los católicos celebramos aquel designio de Dios por el que la Madre de Jesús fue preservada del pecado original desde el momento mismo en que fue concebida\, es decir\, desde el inicio de su vida humana. \n“Declaramos\, pronunciamos y definimos que la doctrina que sostiene que la Santísima Virgen María\, en el primer instante de su concepción\, fue por singular gracia y privilegio de Dios omnipotente en previsión de los méritos de Cristo Jesús\, Salvador del género humano\, preservada inmune de toda mancha de culpa original\, ha sido revelada por Dios\, por tanto\, debe ser firme y constantemente creída por todos los fieles. \n“Dogma proclamado por el Papa Pío IX\, el 8 de diciembre de 1854\, en la Bula Ineffabilis Deus.
URL:https://rociolaestrella.org/event/dia-de-la-inmaculada-concepcion/
LOCATION:LA IGLESIA UNIVERSAL
END:VEVENT
END:VCALENDAR