BEGIN:VCALENDAR
VERSION:2.0
PRODID:-//Rocío La Estrella - ECPv5.14.1//NONSGML v1.0//EN
CALSCALE:GREGORIAN
METHOD:PUBLISH
X-WR-CALNAME:Rocío La Estrella
X-ORIGINAL-URL:https://rociolaestrella.org
X-WR-CALDESC:Eventos para Rocío La Estrella
REFRESH-INTERVAL;VALUE=DURATION:PT1H
X-Robots-Tag:noindex
X-PUBLISHED-TTL:PT1H
BEGIN:VTIMEZONE
TZID:UTC
BEGIN:STANDARD
TZOFFSETFROM:+0000
TZOFFSETTO:+0000
TZNAME:UTC
DTSTART:20220101T000000
END:STANDARD
END:VTIMEZONE
BEGIN:VEVENT
DTSTART;TZID=UTC:20221109T000000
DTEND;TZID=UTC:20230530T020000
DTSTAMP:20260423T151748
CREATED:20221109T201225Z
LAST-MODIFIED:20221119T112320Z
UID:9148-1667952000-1685412000@rociolaestrella.org
SUMMARY:Romería del Rocío 2023
DESCRIPTION:  \nComunicamos a todos los hermanos\, que ya está abierta la inscripción para la Romería del Rocío 2023\, la cuota de inscripción es de 150\,00 €. La Hermandad\, pone a disposición de los hermanos una forma sencilla para ir pagando el coste de la misma\, se pueden hacer cómodas aportaciones mensuales de 50\,00 €\, que podrán ir depositando en la cuenta de la Hermandad  ES61 2038 1796 75 6000340809\, en la oficina\, o bien\, a nuestro Tesorero D. Manuel Velázquez o al Vicepresidente y Vocal Delegado de Romerías y Peregrinaciones D. José Luis González. \nTesorero                                        D. Manuel Velázquez            659 12 11 52\nPeregrinaciones y Romerías       D. José Luis González            607 84 14 50\nAlcalde Carretas                          D. Francisco Girón                 636 48 23 02 \nTambién se podrá apuntar vía telefónica e ingresar por banco.  \n EL ROCÍO\, SU ROMERÍA NO ES PARA “QUE TE LO CUENTEN ES PARA VIVIRLO”\, VEN CON NOSOTROS VIVIRÁS MOMENTOS INOLVIDABLES DESEOS QUE JAMÁS SE OLVIDA. \n¡¡¡APÚNTATE QUEDAN POCAS PLAZAS LIBRES!!!
URL:https://rociolaestrella.org/event/romeria-del-rocio-2023/
LOCATION:Santuario de la Virgen del Rocío\, El Rocío\, Almonte\, Huelva\, España
END:VEVENT
BEGIN:VEVENT
DTSTART;TZID=UTC:20230216T080000
DTEND;TZID=UTC:20230506T233000
DTSTAMP:20260423T151748
CREATED:20230216T183542Z
LAST-MODIFIED:20230319T105756Z
UID:10318-1676534400-1683415800@rociolaestrella.org
SUMMARY:Dª. BEATRIZ SÁNCHEZ PUERTA\, PREGONERA del ROCÍO 2023.
DESCRIPTION:                       \nDª. BEATRIZ SÁNCHEZ PUERTA\, PREGONERA del ROCÍO 2023. \nGracias\, Beatriz\, por aceptar ser la Pregonera de este año de nuestra querida Hermandad. Tu amor a la Virgen del Rocío y tus dotes de oradora seguro que nos harán sentir muy intensamente las vivencias del Rocío y la devoción que todos los rocieros sentimos por la Blanca Paloma. \nDos\, son las pasiones de nuestra Pregonera: el Rocío y la Semana Santa de su ciudad Alcalaína. Como rociera fue Presidenta de la Hermandad de Ntra. Sra. del Rocío de Alcalá de Henares y ha sido pregonera de diferentes Hermandades Rocieras de la Zona Centro. Su otra pasión\, la Semana Santa\, la vive como ferviente devota en las distintas Cofradías a las que pertenece\, participando activamente en los actos que las mismas organizan a lo largo del año. \nSerá presentada esta gran rociera por D. César Sánchez Ruiz\, quien fuera recientemente pregonero de nuestra Hermandad\, y a los que les une una gran amistad.  \n                       \nBeatriz Sánchez Puerta \nBeatriz Sánchez Puerta\, nace en la ciudad de Alcalá de Henares  el  13 de mayo de 1976 \nSe siente cofrade y Rociera en la vida. Hablando de Beatriz cofrade\, Es hermana de Cofradía de Ntra. Señora del Val\, Patrona\, Cofradía del Cristo Universitario y Ntra. Sra. de la Esperanza. Ha participado como miembro de Juntas de Gobierno en varias Estaciones de Penitencia de Alcalá de Henares. \nHa sido pregonera del Rocío\, en la Hdad de Bruselas\, en la Hdad de Madrid Sur\, Hdad de Medina del Campo y en la Hermandad de Collado Villalba \nPresentadora del pregonero en las Hermandades de Segovia a David Camacho y Cesar Sánchez \nLa primera vez que toma contacto con el mundo rociero es abril 1998 \nFue un lunes de madrugada cuando se encontró ante las puertas de la Ermita\, en un puente del mes de mayo. Entonces\, no puede negar que su corazón empezó a latir con fuerza y un escalofrío recorrió su cuerpo. La primera vez que entre a la Ermita fue con el Rvdo. P. D. José María Roldán Fernández\, (DEP). Sacerdote de Huelva\, Vicario de la diócesis. Me explico todo y el significado  de lo que allí se contemplaba. Luego me llevo a la villa de Almonte a la iglesia parroquial de la Asunción\, al salir me llevo a una tienda de telas y me presento a D. Santiago Padilla (DEP) padre\, me explico el mundo de la Virgen. \nEn 1999  mi primer camino con la Hdad de Pilas el principio de su devoción rociera. Después de eso vinieron a su vida rocíos inolvidables\, los cuales los sintió y los vivió con intensidad \nCuando termino la romería del año 1999 me apunte a la Hdad del Rocío de Alcalá de henares. \nFui vocal  relaciones publicas y protocolo  4 años y presidenta 10 años de la Hdad del Rocío de Alcalá de Henares \nLe gusta vivir en Hermandad\, Recuerda con cierta melancolía. Que  dentro de la Hermandad ha ido coleccionando muchos rocíos\, llenando ilusiones en su corazón\,  muchos recuerdos que le han ido marcando. Se le han quedado muchas cosas en el camino; muchos caminos andados\, muchas huellas dejadas atrás\, muchas penas y alegrías\, y muchos ¡vivas! entonados. “Piensa en Hermandad” vive por y para el Rocío. Considera que nuestro camino comienza y acaba pensando en María. \nDespués de tantos años\, está plenamente convencido que para ella la Virgen es la razón de su ser\, la Señora es la luz que le guía en la senda de su vida. \nAgradece al Pastorcito Divino\, por hacerle vivir en Hermandad y en su camino\, a través\, de su Madre\, bajo la advocación de María Santísima del Rocío. \nCesar Sánchez Ruiz \nCesar Sánchez Ruiz\, nace el 26 de Octubre de 1959 en un pueblo de la provincia de Ciudad Real. \nSe siente cofrade\, costalero y Rociero en la vida. Hablando de Cesar cofrade\, Es hermano de la Hermandad de Ntro. Padre de la Salud y Mª Santísima de las Angustias. (Hdad de los Gitanos de Madrid)\, saliendo en la estación de penitencia durante muchos años como costalero del paso del Cristo de los Gitanos y del paso de Mª de las Angustias. El domingo de resurrección del año pasado fue costalero con mucho orgullo\, del Paso de La Virgen del Rocío de la Hdad. De Segovia. \nHa participado como costalero en varias Estaciones de Penitencia de Madrid. \nHa sido pregonero del Rocío\, en la Hdad de Bollullos de La Mitacion\, su Hdad de las Rozas y en la Hermandad de Alcalá de Henares. \nPresentador del pregonero en las Hermandades de Alcalá de Henares y En Medina del campo. \nEn 1985 está el principio de su devoción rociera. Después de eso vinieron a su vida rocíos inolvidables\, los cuales los sintió y los vivió con intensidad arrolladora. \nPrecisamente\, ese intenso sentir rociero que hoy invade en su alma en su totalidad tuvo su inicio en febrero de 2002 cuando\, junto a otros compañeros llenos de ilusión\, decidieron formar la Hermandad de Las Rozas\, con la finalidad de dar culto a Dios por mediación de la Virgen María\, bajo la advocación de Ntra. Sra. del Rocío. De la cual fue presidente durante trece años\, posteriormente fue nombrado presidente honorifico de su Hermandad. \nDespués de tantos años\, está plenamente convencido que para él la Virgen es la razón de su ser\, la Señora es la luz que le guía en la senda de su vida. \nAgradece al Pastorcito Divino\, por hacerle vivir en Hermandad y en su camino\, a través\, de su Madre\, bajo la advocación de María Santísima del Rocío. \nEn 1985 está el principio de su devoción rociera. Después de eso vinieron a su vida rocíos inolvidables\, los cuales los sintió y los vivió con intensidad arrolladora. \nPrecisamente\, ese intenso sentir rociero que hoy invade en su alma en su totalidad tuvo su inicio en febrero de 2002 cuando\, junto a otros compañeros llenos de ilusión\, decidieron formar la Hermandad de Las Rozas\, con la finalidad de dar culto a Dios por mediación de la Virgen María\, bajo la advocación de Ntra. Sra. del Rocío. De la cual fue presidente durante trece años\, posteriormente fue nombrado presidente honorifico de su Hermandad. \nDespués de tantos años\, está plenamente convencido que para él la Virgen es la razón de su ser\, la Señora es la luz que le guía en la senda de su vida. \nAgradece al Pastorcito Divino\, por hacerle vivir en Hermandad y en su camino\, a través\, de su Madre\, bajo la advocación de María Santísima del Rocío.
URL:https://rociolaestrella.org/event/10318/
LOCATION:Parroquia de Nuestra Señora de la Misericordia\, C/ Arroyo del Olivar\, 100\, Madrid\, Madrid\, 28028\, España
ORGANIZER;CN="D.%20Enrique%20J.%20%C3%9Abeda%20Moreno":MAILTO:hermandad@rociolaestrella.org
END:VEVENT
BEGIN:VEVENT
DTSTART;TZID=UTC:20230325T080000
DTEND;TZID=UTC:20230505T210000
DTSTAMP:20260423T151748
CREATED:20230325T105857Z
LAST-MODIFIED:20230326T091209Z
UID:10744-1679731200-1683320400@rociolaestrella.org
SUMMARY:SOLEMNE TRIDUO  Y PREGÓN ROCIERO 1º DIA DE TRIDUO
DESCRIPTION:                                                                                                                                                                                                                                                                                      \nSOLEMNE TRIDUO Y PREGÓN ROCIERO CON MOTIVO DE LA SALIDA OFICIAL DE LA HERMANDAD DE NTRA. SRA. DEL ROCÍO LA ESTRELLA DE MADRID.\nEstablecida  canónicamente en  la Parroquia de Ntra. Sra. de la Misericordia C/ Arroyo del Olivar\,100 28028 Madrid \nCONSAGRA EN HONOR DE SU AMANTÍSIMA TITULAR\, LA VIRGEN DEL ROCÍO \, UN SOLEMNE TRIDUO Y PREGÓN  ROCIERO\, durante los días 5\, 6 y 7 de mayo 2023\, MEDIANTE LA ORGANIZACIÓN DE  LOS SIGUIENTES ACTOS: \nDía 5 de mayo\, a las 19:00 horas\, ROSARIO\, EUCARISTÍA\, OFRECIDA A LOS DIFUNTOS DE LA HERMANDAD\, SE REALIZARÁ DURANTE LA SANTA MISA LA IMPOSICIÓN DE MEDALLAS A LOS NUEVOS HERMANOS. Oficiara la Santa Misa el Vicario Parroquial\, Rvdo. P. D. Manuel M. Sánchez García-Loigorri \nTODOS LOS ACTOS SERÁN PRESIDIDOS POR  NUESTRO BENDITO SIMPECADO \nDurante los días de Triduo\, las Santas Misas serán cantadas por el coro de nuestra Hermandad\, “CAMINO Y ROCÍO”
URL:https://rociolaestrella.org/event/solemne-triduo-y-pregon-rociero-1o-dia-de-triduo/
LOCATION:Parroquia de Nuestra Señora de la Misericordia\, C/ Arroyo del Olivar\, 100\, Madrid\, Madrid\, 28028\, España
ORGANIZER;CN="D.%20Enrique%20J.%20%C3%9Abeda%20Moreno":MAILTO:hermandad@rociolaestrella.org
END:VEVENT
BEGIN:VEVENT
DTSTART;TZID=UTC:20230325T080000
DTEND;TZID=UTC:20230506T230000
DTSTAMP:20260423T151748
CREATED:20230325T114819Z
LAST-MODIFIED:20230326T091131Z
UID:10750-1679731200-1683414000@rociolaestrella.org
SUMMARY:SOLEMNE TRIDUO  Y PREGÓN ROCIERO 2º DIA DE TRIDUO
DESCRIPTION:                                                                 \nSOLEMNE TRIDUO Y PREGÓN ROCIERO CON MOTIVO DE LA SALIDA OFICIAL DE LA HERMANDAD DE NTRA. SRA. DEL ROCÍO LA ESTRELLA DE MADRID.\nEstablecida  canónicamente en  la Parroquia de Ntra. Sra. de la Misericordia C/ Arroyo del Olivar\,100 28028 Madrid \nCONSAGRA EN HONOR DE SU AMANTÍSIMA TITULAR\, LA VIRGEN DEL ROCÍO \, UN SOLEMNE TRIDUO Y PREGÓN  ROCIERO\, durante los días 5\, 6 y 7 de mayo 2023\, MEDIANTE LA ORGANIZACIÓN DE  LOS SIGUIENTES ACTOS: \nDía 6 de mayo\, a las 19:00 horas ROSARIO\, EUCARISTÍA Después de la SANTA MISA presidida por el Vicario Episcopal de la IV Vicaria de la Archidiócesis de Madrid\, Ilmo. Sr. D. Oscar García Aguado\,  a las 20:30 horas\, TENDRÁ LUGAR EL PREGÓN ROCIERO A CARGO DE DÑA. BEATRIZ SÁNCHEZ PUERTA\, PRESENTADO POR D. CESAR SÁNCHEZ RUIZ\,  UNA VEZ TERMINADO EL ACTO TENDRÁ LUGAR  UN VINO ESPAÑOL EN LO SALONES PARROQUIALES \nTODOS LOS ACTOS SERÁN PRESIDIDOS POR  NUESTRO BENDITO SIMPECADO \nDurante los días de Triduo\, las Santas Misas serán cantadas por el coro de nuestra Hermandad\, “CAMINO Y ROCÍO”
URL:https://rociolaestrella.org/event/solemne-triduo-y-pregon-rociero-2o-dia-de-triduo/
LOCATION:Parroquia de Nuestra Señora de la Misericordia\, C/ Arroyo del Olivar\, 100\, Madrid\, Madrid\, 28028\, España
ORGANIZER;CN="D.%20Enrique%20J.%20%C3%9Abeda%20Moreno":MAILTO:hermandad@rociolaestrella.org
END:VEVENT
BEGIN:VEVENT
DTSTART;TZID=UTC:20230325T080000
DTEND;TZID=UTC:20230507T170000
DTSTAMP:20260423T151748
CREATED:20230325T120259Z
LAST-MODIFIED:20230325T121406Z
UID:10754-1679731200-1683478800@rociolaestrella.org
SUMMARY:SOLEMNE TRIDUO  Y PREGÓN ROCIERO 3º DIA DE TRIDUO
DESCRIPTION:                                                                      \nSOLEMNE TRIDUO Y PREGÓN ROCIERO CON MOTIVO DE LA SALIDA OFICIAL DE LA HERMANDAD DE NTRA. SRA. DEL ROCÍO LA ESTRELLA DE MADRID.\nEstablecida  canónicamente en  la Parroquia de Ntra. Sra. de la Misericordia C/ Arroyo del Olivar\,100 28028 Madrid \nCONSAGRA EN HONOR DE SU AMANTÍSIMA TITULAR\, LA VIRGEN DEL ROCÍO \, UN SOLEMNE TRIDUO Y PREGÓN  ROCIERO\, durante los días 5\, 6 y 7 de mayo 2023\, MEDIANTE LA ORGANIZACIÓN DE  LOS SIGUIENTES ACTOS: \nDía 7 de mayo\, a las 10:00 horas SALIDA (1)\, CON NUESTRA CARRETA Y SIMPECADO DE LA PARROQUIA  DE NUESTRA SEÑORA DE LA MISERICORDIA\, calle Arroyo del Olivar 100\, PROCESIONANDO POR LAS CALLES DEL BARRIO Y CON PARADAS EN DIFERENTES PARROQUIAS\, SEGÚN ITINERARIO PROGRAMADO. \nLA EUCARISTIA SE CELEBRERÁ EN LA PARROQUIA DE SAN PABLO SOBRE LA 12:45 H presidida por nuestro Consiliario\, Rvdo. P.  D. Felipe Rosario Bruno\, \, UNA VEZ TERMINADO EL ACTO\, COMIDA DE HERMANDAD CON LAS VIANDAS QUE CADA HERMANO TRAIGA\, EN LOS SALONES PARROQUIALES DE NUESTRA SEÑORA DE LA MISERICORDIA. \nTODOS LOS ACTOS SERÁN PRESIDIDOS POR  NUESTRO BENDITO SIMPECADO \nDurante los días de Triduo\, las Santas Misas serán cantadas por el coro de nuestra Hermandad\, “CAMINO Y ROCÍO” \n(1)  Pendiente confirmación de autorización del ayuntamiento  \nITINERARIO PROCESION DIA 07/05/2023 \nSalida – PARROQUIA NUESTRA SRA. DE LA MISERICORDIA /HORA PREVISTA 10:00 \nEl recorrido empieza en la calle SIERRA DEL VALLE\, hasta llegar a la AV. PALOMERAS donde nos llevara a la calle JAVIER DE MIGUEL\, hasta enlazar con la calle PUERTO DE VELATE\, y de ahí hasta que lleguemos a la calle DILIGENCIA\, que será nuestra 1a PARADA COMEDOR DE LAS MISIONERAS DE LA CARIDAD/HORA PREVISTA 10:30h. \nSeguidamente bajaremos por la calle CENICIENTA\, hasta llegar a la calle CLEOPATRA\, donde haremos nuestra 2a PARADA PARROQUIA NUESTRA SRA. DEL CONSUELO/HORA PREVISTA 11:00h. Seguidamente giraremos a la izquierda por la calle VIOLETERA y luego girando a la derecha en la calle DILIGENCIA\, hasta llegar a la calle HERMANOS GARCÍA donde volveremos a coger calle JAVIER DE MIGUEL cruzando la AVDA. DE BUENOS AIRES\, hasta llegar a la calle PEDRO LABORDE donde haremos nuestra 3ª PARADA PARROQUIA PATROCINIO DE SAN JOSE (HORA PREVISTA: 11:45h.). Seguidamente volveros a coger la calle Pedro Laborde\, hasta llegar a la Avda. BUENOS AIRES\, donde giraremos a la derecha y subiremos la Avda. hasta la altura de la calle SIERRA SALVADA\, donde tendremos un paso de cebra para cruzar al otro lado de la Avda. BUENO AIRES\, hasta llegar a la calle ESCRITOR donde haremos nuestra 4o PARADA y celebraremos la EUCARISTÍA. PARROQUIA DE SAN PABLO (HORA PREVISTA 12:45) \nUna vez finalizada la Eucaristía\, saldremos de la Parroquia SAN PABLO\, y continuaremos hasta el PARQUE AZORÍN\, donde haremos otra parada de unos quince minutos; luego seguiremos nuestro itinerario por el camino de tierra del parque hasta llegar a la calle ARROYO DEL OLIVAR y de ahí bajaremos hasta llegar a la PARROQUIA NUESTRA SRA. DE LA MISERICORDIA\, donde acaba nuestro recorrido (HORA PREVISTA: 14:30) \n 
URL:https://rociolaestrella.org/event/solemne-triduo-y-pregon-rociero-3o-dia-de-triduo/
LOCATION:Parroquia de Nuestra Señora de la Misericordia\, C/ Arroyo del Olivar\, 100\, Madrid\, Madrid\, 28028\, España
ORGANIZER;CN="D.%20Enrique%20J.%20%C3%9Abeda%20Moreno":MAILTO:hermandad@rociolaestrella.org
END:VEVENT
END:VCALENDAR