BEGIN:VCALENDAR
VERSION:2.0
PRODID:-//Rocío La Estrella - ECPv5.14.1//NONSGML v1.0//EN
CALSCALE:GREGORIAN
METHOD:PUBLISH
X-WR-CALNAME:Rocío La Estrella
X-ORIGINAL-URL:https://rociolaestrella.org
X-WR-CALDESC:Eventos para Rocío La Estrella
REFRESH-INTERVAL;VALUE=DURATION:PT1H
X-Robots-Tag:noindex
X-PUBLISHED-TTL:PT1H
BEGIN:VTIMEZONE
TZID:UTC
BEGIN:STANDARD
TZOFFSETFROM:+0000
TZOFFSETTO:+0000
TZNAME:UTC
DTSTART:20240101T000000
END:STANDARD
END:VTIMEZONE
BEGIN:VEVENT
DTSTART;TZID=UTC:20240418T080000
DTEND;TZID=UTC:20240426T220000
DTSTAMP:20260422T214629
CREATED:20240418T080348Z
LAST-MODIFIED:20240418T080439Z
UID:18118-1713427200-1714168800@rociolaestrella.org
SUMMARY:PRIMER DÍA DE TRIDUO
DESCRIPTION:
URL:https://rociolaestrella.org/event/primer-dia-de-triduo/
LOCATION:Parroquia de Nuestra Señora de la Misericordia\, C/ Arroyo del Olivar\, 100\, Madrid\, Madrid\, 28028\, España
ORGANIZER;CN="D.%20Jois%C3%A9%20Luis%20Campuzano%20Mart%C3%ADnez":MAILTO:hermandad@rociolaestrella.org
END:VEVENT
BEGIN:VEVENT
DTSTART;TZID=UTC:20240418T080000
DTEND;TZID=UTC:20240427T170000
DTSTAMP:20260422T214629
CREATED:20240418T075119Z
LAST-MODIFIED:20240418T075211Z
UID:18113-1713427200-1714237200@rociolaestrella.org
SUMMARY:MERCADILLO SOLIDARIO
DESCRIPTION:  \nOs esperamos a todos el viernes 26 y 27 de abril en el Mercadillo Solidario que realiza la Hermandad de Ntra. Sra. del Rocío la Estrella en la parroquia de Ntra. Sra.\, de la Misericordia. Porque un poquito de cada uno hace mucho para otros.Por favor\, no faltéis\, os esperamos.
URL:https://rociolaestrella.org/event/mercadillo-solidario/
LOCATION:Parroquia de Nuestra Señora de la Misericordia\, C/ Arroyo del Olivar\, 100\, Madrid\, Madrid\, 28028\, España
END:VEVENT
BEGIN:VEVENT
DTSTART;TZID=UTC:20240418T080000
DTEND;TZID=UTC:20240427T220000
DTSTAMP:20260422T214629
CREATED:20240418T081315Z
LAST-MODIFIED:20240418T081433Z
UID:18122-1713427200-1714255200@rociolaestrella.org
SUMMARY:SEGUNDO DÍA DE TRIDUO Y PREGÓN ROCIERO
DESCRIPTION:
URL:https://rociolaestrella.org/event/segundo-dia-de-triduo-y-pregon-rociero/
LOCATION:Parroquia de Nuestra Señora de la Misericordia\, C/ Arroyo del Olivar\, 100\, Madrid\, Madrid\, 28028\, España
ORGANIZER;CN="D.%20Jois%C3%A9%20Luis%20Campuzano%20Mart%C3%ADnez":MAILTO:hermandad@rociolaestrella.org
END:VEVENT
BEGIN:VEVENT
DTSTART;TZID=UTC:20240418T080000
DTEND;TZID=UTC:20240427T223000
DTSTAMP:20260422T214629
CREATED:20240418T161253Z
LAST-MODIFIED:20240418T162322Z
UID:18124-1713427200-1714257000@rociolaestrella.org
SUMMARY:XXVII PREGÓN ROCIERO DE LA HERMANDAD DE NTRA. SRA. DEL ROCÍO LA ESTRELLA
DESCRIPTION:El Pregón rociero se celebrará en la parroquia de Nuestra Señora de la Misericordia\, C/ Arroyo del Olivar\, 100 28018-MADRID\, el día 27 de abril\, a las 20:30 horas.\n El   Pregonero de este año de nuestra querida Hermandad es D. Fernando Losa Alejandre. Su amor a la Virgen del Rocío y tus dotes de orador seguro que nos harán sentir muy intensamente las vivencias del Rocío y la devoción que todos los rocieros sentimos por la Blanca Paloma \nDos\, son las pasiones de nuestro Pregonero: el Rocío y la Semana Santa \nSerá presentado este gran rociero por D. A. Alfonso Soriano Castro\, quien fuera Vicepresidente de nuestra Hermandad\, y a los que les une una gran amistad.
URL:https://rociolaestrella.org/event/xxvii-pregon-rociero-de-la-hermandad-de-ntra-sra-del-rocio-la-estrella/
LOCATION:Parroquia de Nuestra Señora de la Misericordia\, C/ Arroyo del Olivar\, 100\, Madrid\, Madrid\, 28028\, España
ORGANIZER;CN="D.%20Jois%C3%A9%20Luis%20Campuzano%20Mart%C3%ADnez":MAILTO:hermandad@rociolaestrella.org
END:VEVENT
BEGIN:VEVENT
DTSTART;TZID=UTC:20240418T080000
DTEND;TZID=UTC:20240428T200000
DTSTAMP:20260422T214629
CREATED:20240418T162152Z
LAST-MODIFIED:20240418T162551Z
UID:18129-1713427200-1714334400@rociolaestrella.org
SUMMARY:TERCER DÍA DE TRIDUOA. SALIDA OFICIAL DE LA HERMANDAD DE NTRA. SRA. DEL ROCÍO LA ESTRELLA
DESCRIPTION:
URL:https://rociolaestrella.org/event/tercer-dia-de-triduoa-salida-oficial-de-la-hermandad-de-ntra-sra-del-rocio-la-estrella/
LOCATION:Parroquia de Nuestra Señora de la Misericordia\, C/ Arroyo del Olivar\, 100\, Madrid\, Madrid\, 28028\, España
ORGANIZER;CN="D.%20Jois%C3%A9%20Luis%20Campuzano%20Mart%C3%ADnez":MAILTO:hermandad@rociolaestrella.org
END:VEVENT
END:VCALENDAR