BEGIN:VCALENDAR
VERSION:2.0
PRODID:-//Rocío La Estrella - ECPv5.14.1//NONSGML v1.0//EN
CALSCALE:GREGORIAN
METHOD:PUBLISH
X-WR-CALNAME:Rocío La Estrella
X-ORIGINAL-URL:https://rociolaestrella.org
X-WR-CALDESC:Eventos para Rocío La Estrella
REFRESH-INTERVAL;VALUE=DURATION:PT1H
X-Robots-Tag:noindex
X-PUBLISHED-TTL:PT1H
BEGIN:VTIMEZONE
TZID:UTC
BEGIN:STANDARD
TZOFFSETFROM:+0000
TZOFFSETTO:+0000
TZNAME:UTC
DTSTART:20240101T000000
END:STANDARD
END:VTIMEZONE
BEGIN:VEVENT
DTSTART;TZID=UTC:20240607T080000
DTEND;TZID=UTC:20240629T200000
DTSTAMP:20260422T185601
CREATED:20240607T190005Z
LAST-MODIFIED:20240607T171640Z
UID:18694-1717747200-1719691200@rociolaestrella.org
SUMMARY:BARBACOA Y CONVIVENCIA DE LA HERMANDAD
DESCRIPTION:Hermanos y simpatizantes de la Hermandad de Ntra. Sra. del Rocío la Estrella de Madrid. \n\nOs proponemos un día de CONVIVENCIA \, para poder disfrutar juntos \, ya que en la Romería del Rocío de este año hemos echado mucho de menos a nuestros hermanos\, por ello os convocamos a todos los hermanos y amigos que no sean hermanos a pasar un día de convivencia con una Barbacoa \,donde estará presente nuestra Guía de Camino y nuestra Lágrima\, para poder rezar el Ángelus a las 12:00 horas. Lo ideal es hacer el ingreso en la cuenta de la Hermandad \, si alguien prefiere en efectivo se realizaría el pago el día de la Sabatina de este mes .\nOS ESPERAMOS HEMOS PUESTO MUCHA ILUSIÓN EN ESTA CONVIVENCIA\n(En el cartel tenéis un teléfono de contacto por si tenéis alguna duda).\nNO\, NOS FALTEIS.
URL:https://rociolaestrella.org/event/barbaco-y-convivencia-de-la-hermandad/
LOCATION:ERMITA VIRGEN DE LA TORRE\, CARRETERA DE RIVAS JARAMA 30 VICALVARO MADRID\, VICALVARO\, MADRID\, 28052\, España
ORGANIZER;CN="D.%20Jois%C3%A9%20Luis%20Campuzano%20Mart%C3%ADnez":MAILTO:hermandad@rociolaestrella.org
END:VEVENT
BEGIN:VEVENT
DTSTART;TZID=UTC:20240619T080000
DTEND;TZID=UTC:20240622T230000
DTSTAMP:20260422T185601
CREATED:20240619T064746Z
LAST-MODIFIED:20240619T151222Z
UID:18701-1718784000-1719097200@rociolaestrella.org
SUMMARY:IX SABATINA DE LA HERMANDAD DE NTRA. SRA. DEL ROCÍO LA ESTRELLA
DESCRIPTION:  \nEl sábado 22 de junio se celebra la IX Sabatina de la Solemne Novena que la Hermandad de Ntra. Sra. del Rocío la Estrella de Madrid consagra en honor de su venerada Titular\, Virgen del Rocío. \nTendrá lugar en nuestra Parroquia de Ntra. Sra. de la Misericordia de Madrid\, C/ Arroyo del Olivar\, 100. \nOficiará la Santa Misa el Consiliario de la Hermandad\, Rvdo. P. D. Felipe Rosario Bruno \nEste acto será cantado por el coro de la Hermandad “Camino y Rocío”\, con el siguiente orden:. \n\n19:00 h. Novena a la Virgen del Rocío. (aproximadamente)\n19:30 h. Santo Rosario.\n20:00 h. Santa Misa.\n21:00 h. Convivencia de hermanos en los salones parroquiales ( los hermanos pueden traer viandas para compartir)\n\n\nQue la Virgen llene de Paz\, Amor y Caridad todas nuestras familias y que la Fe Rociera llene nuestros corazones. \nSaludos en Cristo y su Santísima Madre\, Santa María del Rocío\, os acompañe en vuestro caminar
URL:https://rociolaestrella.org/event/ix-sabtina-de-la-hermandad-de-ntra-sra-del-rocio-la-estrella/
LOCATION:Parroquia de Nuestra Señora de la Misericordia\, C/ Arroyo del Olivar\, 100\, Madrid\, Madrid\, 28028\, España
CATEGORIES:Sabatina de la Hermandad
ORGANIZER;CN="D.%20Jois%C3%A9%20Luis%20Campuzano%20Mart%C3%ADnez":MAILTO:hermandad@rociolaestrella.org
END:VEVENT
END:VCALENDAR