BEGIN:VCALENDAR
VERSION:2.0
PRODID:-//Rocío La Estrella - ECPv5.14.1//NONSGML v1.0//EN
CALSCALE:GREGORIAN
METHOD:PUBLISH
X-WR-CALNAME:Rocío La Estrella
X-ORIGINAL-URL:https://rociolaestrella.org
X-WR-CALDESC:Eventos para Rocío La Estrella
REFRESH-INTERVAL;VALUE=DURATION:PT1H
X-Robots-Tag:noindex
X-PUBLISHED-TTL:PT1H
BEGIN:VTIMEZONE
TZID:UTC
BEGIN:STANDARD
TZOFFSETFROM:+0000
TZOFFSETTO:+0000
TZNAME:UTC
DTSTART:20250101T000000
END:STANDARD
END:VTIMEZONE
BEGIN:VEVENT
DTSTART;TZID=UTC:20250502T080000
DTEND;TZID=UTC:20250604T233000
DTSTAMP:20260422T003336
CREATED:20250502T172626Z
LAST-MODIFIED:20250502T172652Z
UID:20110-1746172800-1749079800@rociolaestrella.org
SUMMARY:ROMERÍA DEL ROCÍO 2025 SALIDA  PARA EL CAMINO  HACIA LA ALDEA DEL ROCÍO.
DESCRIPTION:ASÍ CAMINA MI GENTE \n                             ROCÍO SOLO POR VERTE                             \n                                              POR VERTE SOLO ROCÍO                                                  \n                         ASÍ CAMINA MI GENTE                            \n                             ROCÍO SOLO POR VERTE                              \nPOR VERTE SOLO ROCÍO
URL:https://rociolaestrella.org/event/romeria-del-rocio-2025-salida-para-el-camino-hacia-la-aldea-del-rocio/
LOCATION:Santuario de la Virgen del Rocío\, El Rocío\, Almonte\, Huelva\, España
END:VEVENT
BEGIN:VEVENT
DTSTART;TZID=UTC:20250502T080000
DTEND;TZID=UTC:20250605T233000
DTSTAMP:20260422T003336
CREATED:20250502T173025Z
LAST-MODIFIED:20250502T173046Z
UID:20114-1746172800-1749166200@rociolaestrella.org
SUMMARY:ROMERÍA DEL ROCÍO 2025 LLEGADA A LA ALDEA DEL ROCÍO.
DESCRIPTION:EL CORAZÓN SE DISLOCA \nNOS VAMOS POQUITO A POCO  \nANDANDO PA LA ROCINA \nQUE NOS ESPERA LA VIRGEN  \nLA REINA DE LAS MARISMAS.
URL:https://rociolaestrella.org/event/romeria-del-rocio-2025-llegada-a-la-aldea-del-rocio/
LOCATION:Santuario de la Virgen del Rocío\, El Rocío\, Almonte\, Huelva\, España
END:VEVENT
BEGIN:VEVENT
DTSTART;TZID=UTC:20250502T080000
DTEND;TZID=UTC:20250607T233000
DTSTAMP:20260422T003336
CREATED:20250502T173354Z
LAST-MODIFIED:20250502T173419Z
UID:20118-1746172800-1749339000@rociolaestrella.org
SUMMARY:ROMERÍA DEL ROCÍO 2025 SOLEMNE RECEPCIÓN DE HERMANDADES FILIALES.
DESCRIPTION:MAMÁ\, YO QUIERO SABER ¿POR QUÉ? \nPORQUE SE NOS PARAN\,  \nESOS CARROS EN LA PUERTA.  \nCADA CARRO UN SIMPECAO\,  \nVIENE HACIENDO CAMINO PARA ESTAR\,  \nJUNTO A SU HERMANDAD \nVIENEN TODOS LOS AÑOS  \nY SE HAN DE PRESENTAR
URL:https://rociolaestrella.org/event/romeria-del-rocio-2025-solemne-recepcion-de-hermandades-filiales/
LOCATION:Santuario de la Virgen del Rocío\, El Rocío\, Almonte\, Huelva\, España
END:VEVENT
BEGIN:VEVENT
DTSTART;TZID=UTC:20250502T080000
DTEND;TZID=UTC:20250608T233000
DTSTAMP:20260422T003336
CREATED:20250502T173701Z
LAST-MODIFIED:20250502T173741Z
UID:20120-1746172800-1749425400@rociolaestrella.org
SUMMARY:ROMERÍA DEL ROCÍO 2025 SOLEMNE MISA DE PENTECOSTÉS.
DESCRIPTION:AS \nY NO EN EL RESTO DEL AÑO. \nES UNA CELEBRACIÓN\, \nDONDE EN FORMA DE PALOMA \n APARECISTE CON TU INSPIRACIÓN\, \nCINCUENTA DÍAS DESPUÉS DE LA RESURRECCIÓN
URL:https://rociolaestrella.org/event/romeria-del-rocio-2025-solemne-misa-de-pentecostes/
LOCATION:Santuario de la Virgen del Rocío\, El Rocío\, Almonte\, Huelva\, España
END:VEVENT
BEGIN:VEVENT
DTSTART;TZID=UTC:20250502T080000
DTEND;TZID=UTC:20250609T040000
DTSTAMP:20260422T003336
CREATED:20250502T174021Z
LAST-MODIFIED:20250508T170657Z
UID:20122-1746172800-1749441600@rociolaestrella.org
SUMMARY:ROMERÍA DEL ROCÍO 2025 SANTO ROSARIO.
DESCRIPTION:DE TANTO COMO TE QUIERE \nLA ESTRELLA\, AQUÍ EN MADRID \nDE TANTO COMO CONFÍAN EN TI\, \nPOR ESO ESTÁN AQUÍ REZANDO \nPOSTRAOS BAJO TUS PIES\, \nLLORANDO HASTA SIN QUERER.
URL:https://rociolaestrella.org/event/romeria-del-rocio-2025-santo-rosario/
LOCATION:Santuario de la Virgen del Rocío\, El Rocío\, Almonte\, Huelva\, España
END:VEVENT
BEGIN:VEVENT
DTSTART;TZID=UTC:20250502T080000
DTEND;TZID=UTC:20250609T233000
DTSTAMP:20260422T003336
CREATED:20250502T172056Z
LAST-MODIFIED:20250508T163712Z
UID:20101-1746172800-1749511800@rociolaestrella.org
SUMMARY:ROMERÍA DEL ROCÍO 2025 PROCESIÓN DE LA VENERADA IMAGEN DE LA VIRGEN DEL ROCÍO
DESCRIPTION:CUANDO POR LA MAÑANA LA VIRGEN SALE. \nLA VIRGEN SALE\, \nHASTA EL SOL SE DETIENE\, PARA REZARLE  \nHASTA EL SOL SE DETIENE\, PARA REZARLE. \nQUIEN NO LE REZA\, A ESA BLANCA PALOMA  \nQUIEN NO LE REZA\, A ESA BLANCA PALOMA  \nFLOR DE PUREZA.
URL:https://rociolaestrella.org/event/romeria-del-rocio-2025-procesion-de-la-venerada-imagen-de-la-virgen-del-rocio/
LOCATION:Santuario de la Virgen del Rocío\, El Rocío\, Almonte\, Huelva\, España
END:VEVENT
BEGIN:VEVENT
DTSTART;TZID=UTC:20250621T080000
DTEND;TZID=UTC:20250628T230000
DTSTAMP:20260422T003336
CREATED:20250621T063809Z
LAST-MODIFIED:20250621T063955Z
UID:20457-1750492800-1751151600@rociolaestrella.org
SUMMARY:SANTA MISA DE ACCIÓN DE GRACIAS DE LA HERMANDAD DE NTRA. SRA. DEL ROCÍO LA ESTRELLA
DESCRIPTION:El sábado 28 de junio se celebra la Santa Misa de Acción de Gracias  que la Hermandad de Ntra. Sra. del Rocío la Estrella de Madrid consagra en honor de su venerada Titular\, Virgen del Rocío. \nTendrá lugar en nuestra Parroquia de Ntra. Sra. de la Misericordia de Madrid\, C/ Arroyo del Olivar\, 100. \nOficiará la Santa Misa el Consiliario de la Hermandad\, Rvdo. P. D. Felipe Rosario Bruno \nEste acto será cantado por el coro de la Hermandad “Camino y Rocío”\, con el siguiente orden: \n\n19:30 h. Santo Rosario.\n20:00 h. Santa Misa.\n21:00 h. Convivencia de hermanos en los salones parroquiales ( los hermanos pueden traer viandas para compartir)\n\nQue la Virgen llene de Paz\, Amor y Caridad todas nuestras familias y que la Fe Rociera llene nuestros corazones. \nSaludos en Cristo y su Santísima Madre\, Santa María del Rocío\, os acompañe en vuestro caminar
URL:https://rociolaestrella.org/event/santa-misa-de-accion-de-gracias-de-la-hermandad-de-ntra-sra-del-rocio-la-estrella/
LOCATION:Parroquia de Nuestra Señora de la Misericordia\, C/ Arroyo del Olivar\, 100\, Madrid\, Madrid\, 28028\, España
ORGANIZER;CN="D.%20Jois%C3%A9%20Luis%20Campuzano%20Mart%C3%ADnez":MAILTO:hermandad@rociolaestrella.org
END:VEVENT
END:VCALENDAR